BEGIN:VCALENDAR
VERSION:2.0
PRODID:-//ChamberMaster//Event Calendar 2.0//EN
METHOD:PUBLISH
X-PUBLISHED-TTL:P3D
REFRESH-INTERVAL:P3D
CALSCALE:GREGORIAN
BEGIN:VEVENT
DTSTART:20120918T201500Z
DTEND:20120918T204500Z
X-MICROSOFT-CDO-ALLDAYEVENT:FALSE
SUMMARY:Habitat ReStore Ribbon Cutting
DESCRIPTION:Please help the Habitat ReStore celebrate their expansion with a ribbon cutting on Tuesday\, September 18\, 2012 at 3:15pm (immediately following the Habitat for Humanity Quad Cities ribbon cutting).  Located at 3629 Mississippi Avenue – just east of Dahl Ford\, north of Kimberly Rd. Habitat ReStore supports the work of Habitat for Humanity Quad Cities\; they have diverted more than 7.5 million pounds of building materials\, appliances and furniture from area landfills since opening nearly 10 years ago. ReStore Health & Home opened June 2012\; they sell new and gently used medical equipment and supplies ReStore accepts donations of all these items Mon – Sat (Shopping and donation hours on website) For more information\, please visit www.restoreqc.org
X-ALT-DESC;FMTTYPE=text/html:<P style="MARGIN: 0in 0in 0pt" class=MsoNormal><FONT face=Calibri>Please help the Habitat ReStore celebrate their expansion with a ribbon cutting on Tuesday\, September 18\, 2012 at 3:15pm (immediately following the Habitat for Humanity Quad Cities ribbon cutting).<SPAN style="mso-spacerun: yes">&nbsp\; </SPAN>Located at 3629 Mississippi Avenue – just east of Dahl Ford\, north of Kimberly Rd.</FONT></P><P style="MARGIN: 0in 0in 0pt" class=MsoNormal><?xml:namespace prefix = o ns = "urn:schemas-microsoft-com:office:office" /><o:p><FONT face=Calibri>&nbsp\;</FONT></o:p></P><P style="MARGIN: 0in 0in 0pt" class=MsoNormal><FONT face=Calibri>Habitat ReStore supports the work of Habitat for Humanity Quad Cities\; they have diverted more than 7.5 million pounds of building materials\, appliances and furniture from area landfills since opening nearly 10 years ago.</FONT></P><P style="MARGIN: 0in 0in 0pt" class=MsoNormal><o:p><FONT face=Calibri>&nbsp\;</FONT></o:p></P><P style="MARGIN: 0in 0in 0pt" class=MsoNormal><FONT face=Calibri>ReStore Health &amp\; Home opened June 2012\; they sell new and gently used medical equipment and supplies</FONT></P><P style="MARGIN: 0in 0in 0pt" class=MsoNormal><o:p><FONT face=Calibri>&nbsp\;</FONT></o:p></P><P style="MARGIN: 0in 0in 0pt" class=MsoNormal><FONT face=Calibri>ReStore accepts donations of all these items Mon – Sat (Shopping and donation hours on website)</FONT></P><P style="MARGIN: 0in 0in 0pt" class=MsoNormal><o:p><FONT face=Calibri>&nbsp\;</FONT></o:p></P><P style="MARGIN: 0in 0in 0pt" class=MsoNormal><FONT face=Calibri>For more information\, please visit </FONT><A href="http://www.restoreqc.org">www.restoreqc.org</A><FONT face=Calibri> </FONT></P><DIV style="FONT-FAMILY: Arial">&nbsp\;</DIV>
LOCATION:Habitat ReStore3629 Mississippi Ave. Davenport\, IA 52807
UID:e.2843.423
SEQUENCE:3
DTSTAMP:20260421T201551Z
URL:https://member.quadcitieschamber.com/events/details/habitat-restore-ribbon-cutting-09-18-2012-423
END:VEVENT

END:VCALENDAR
