BEGIN:VCALENDAR
VERSION:2.0
PRODID:-//ChamberMaster//Event Calendar 2.0//EN
METHOD:PUBLISH
X-PUBLISHED-TTL:P3D
REFRESH-INTERVAL:P3D
CALSCALE:GREGORIAN
BEGIN:VEVENT
DTSTART:20190131T220000Z
DTEND:20190201T010000Z
X-MICROSOFT-CDO-ALLDAYEVENT:FALSE
SUMMARY:Hacking the Hacker Social Hour Event
DESCRIPTION:Are you a Sitting Duck?\n\n			What would happen if someone hacked their way into your inbox right this very second or if someone decided to hold all your data ransom? What would you do if someone gained access to your documents? What would you say if you knew someone could track everything you type and every site you visit?\n\n			It's not much fun to think about\, but these situations are more common than you might assume. But let's call it like it is. If you're running your business without a multi-layered security solution\, then you're nothing more than a sitting duck.\n\n			Waiting for someone to hack you \n\n			Waiting for your data to disappear \n\n			Waiting for your business to fall apart \n\n			Things don't have to be this way\, though. Join Winsor Consulting for our Hacking the Hacker social hour\, in Partnership with Sophos. Cocktails and Hors d'Oeuvres provided. \n\n			During this time\, you will learn:\n\n			To understand how hackers can compromise your business\n\n			How to recognize the tactics they use\n\n			How Winsor Technology can help your business\n\n			Click Here to Register Today! \n\n			To learn more about this event\, visit our website or give us a call today at (563) 362-5464.\n\n			Winsor Consulting Group\, bringing you the technology to protect your business.
X-ALT-DESC;FMTTYPE=text/html:<div>\n<table border="0" cellpadding="0" cellspacing="0" style="background-attachment:initial\; background-clip:initial\; background-image:initial\; background-origin:initial\; background-position:initial\; background-repeat:initial\; background-size:initial\; border-collapse:collapse\; width:100%">\n	<tbody>\n		<tr>\n			<td style="vertical-align:top"><strong><span style="color:#5C5C5C"><span style="font-family:garamond\,serif"><span style="font-size:11.5pt">Are you a Sitting Duck?</span></span></span></strong><br />\n			<span style="color:#5C5C5C"><span style="font-family:garamond\,serif"><span style="font-size:11.5pt">What would happen if someone hacked their way into your inbox right this very second or if someone decided to hold all your data ransom? What would you do if someone gained access to your documents? What would you say if you knew someone could track everything you type and every site you visit?</span></span></span><br />\n			<span style="color:#5C5C5C"><span style="font-family:garamond\,serif"><span style="font-size:11.5pt">It&rsquo\;s not much fun to think about\, but these situations are more common than you might assume. But let&rsquo\;s call it like it is. If you&rsquo\;re running your business without a multi-layered security solution\, then <strong>you&rsquo\;re nothing more than a sitting duck.</strong></span></span></span><br />\n			<span style="color:#5C5C5C"><span style="font-family:garamond\,serif"><span style="font-size:11.5pt">Waiting for someone to hack you&hellip\;<br />\n			Waiting for your data to disappear&hellip\;<br />\n			Waiting for your business to fall apart&hellip\;</span></span></span><br />\n			<strong><span style="color:#5C5C5C"><span style="font-family:garamond\,serif"><span style="font-size:11.5pt">Things don&rsquo\;t have to be this way\, though. </span></span></span></strong><span style="color:#5C5C5C"><span style="font-family:garamond\,serif"><span style="font-size:11.5pt">Join <strong>Winsor Consulting </strong>for our <strong>Hacking the Hacker </strong>social hour\, in Partnership with Sophos. Cocktails and Hors d&#39\;Oeuvres provided. </span></span></span><br />\n			<span style="color:#5C5C5C"><span style="font-family:garamond\,serif"><span style="font-size:11.5pt">During this time\, you will learn:<br />\n			To understand how hackers can compromise your business<br />\n			How to recognize the tactics they use<br />\n			How Winsor Technology can help your business</span></span></span><br />\n			<span style="color:#5C5C5C"><span style="font-family:garamond\,serif"><span style="font-size:11.5pt"><a href="http://event.squarespace-mail.com/?a=18712&amp\;m=5c2a66a457c3ba0001fc744a&amp\;n=5c2a6d97f769b600014f6b6c&amp\;s=14b0000049c2522&amp\;u=https%3a%2f%2fwww.winsorgroup.com%2fhacking-the-hacker-registration%3fss_source%3dsscampaigns%26ss_campaign_id%3d5c2a66a457c3ba0001fc744a%26ss_email_id%3d5c2a6d97f769b600014f6b6c%26ss_campaign_name%3dJoin%2bus%2bfor%2bour%2bHacking%2bthe%2bHacker%2bSocial%2bHour%2bEvent%26ss_campaign_sent_date%3d2018-12-31T19%253A27%253A33Z&amp\;t=&amp\;e=jcourson%40winsorgroup.com&amp\;h=8efee616"><strong>Click Here to Register Today!</strong></a> </span></span></span><br />\n			<span style="color:#5C5C5C"><span style="font-family:garamond\,serif"><span style="font-size:11.5pt">To learn more about this event\, visit our <a href="http://event.squarespace-mail.com/?a=18712&amp\;m=5c2a66a457c3ba0001fc744a&amp\;n=5c2a6d97f769b600014f6b6c&amp\;s=14b0000049c2522&amp\;u=https%3a%2f%2fwww.winsorgroup.com%2fhacking-the-hacker-registration%3fss_source%3dsscampaigns%26ss_campaign_id%3d5c2a66a457c3ba0001fc744a%26ss_email_id%3d5c2a6d97f769b600014f6b6c%26ss_campaign_name%3dJoin%2bus%2bfor%2bour%2bHacking%2bthe%2bHacker%2bSocial%2bHour%2bEvent%26ss_campaign_sent_date%3d2018-12-31T19%253A27%253A33Z&amp\;t=&amp\;e=jcourson%40winsorgroup.com&amp\;h=8efee616">website</a> or give us a call today at (563) 362-5464.</span></span></span><br />\n			<strong><span style="color:#5C5C5C"><span style="font-family:garamond\,serif"><span style="font-size:11.5pt">Winsor Consulting Group\, bringing you the technology to protect your business.</span></span></span></strong></td>\n		</tr>\n		<tr>\n			<td>&nbsp\;</td>\n		</tr>\n	</tbody>\n</table>\n</div>\n
LOCATION:UP SKYBAR 215 N. Main St Davenport\, IA
UID:e.2843.13707
SEQUENCE:3
DTSTAMP:20260422T233942Z
URL:https://member.quadcitieschamber.com/events/details/hacking-the-hacker-social-hour-event-13707
END:VEVENT

END:VCALENDAR
