BEGIN:VCALENDAR
VERSION:2.0
PRODID:-//ChamberMaster//Event Calendar 2.0//EN
METHOD:PUBLISH
X-PUBLISHED-TTL:P3D
REFRESH-INTERVAL:P3D
CALSCALE:GREGORIAN
BEGIN:VEVENT
DTSTART:20210130T190000Z
DTEND:20210130T230000Z
X-MICROSOFT-CDO-ALLDAYEVENT:FALSE
SUMMARY:Hand in Hand's 12th Annual Drive-Thru Chili Cook-Off
DESCRIPTION:This year's Chili Cook-Off is going to look a bit different! Drive up to the Fair Center at the Mississippi Valley Fairgrounds on Saturday\, January 30\, 2021 to pick up your chili samples from our many chili teams then hop online to vote\, bid on silent auction items\, then tune into our Facebook page to see the winners! Don't forget to purchase $5 and $20 raffle tickets from Hand in Hand or purchase them in the drive thru line the day of the cook-off. Also\, try your hand at the gift card grab while in line.
X-ALT-DESC;FMTTYPE=text/html:This year&#39\;s Chili Cook-Off is going to look a bit different! Drive up to the Fair Center at the Mississippi Valley Fairgrounds on Saturday\, January 30\, 2021 to pick up your chili samples from our many chili teams then hop online to vote\, bid on silent auction items\, then tune into our Facebook page to see the winners! Don&#39\;t forget to purchase $5 and $20 raffle tickets from Hand in Hand or purchase them in the drive thru line the day of the cook-off. Also\, try your hand at the gift card grab while in line.
LOCATION:Mississippi Valley Fair Grounds\, Fair Center (2815 Locust Street Davenport\, IA 52804)
UID:e.2843.18603
SEQUENCE:3
DTSTAMP:20260421T063024Z
URL:https://member.quadcitieschamber.com/events/details/hand-in-hand-s-12th-annual-drive-thru-chili-cook-off-18603
END:VEVENT

END:VCALENDAR
