BEGIN:VCALENDAR
VERSION:2.0
PRODID:-//ChamberMaster//Event Calendar 2.0//EN
METHOD:PUBLISH
X-PUBLISHED-TTL:P3D
REFRESH-INTERVAL:P3D
CALSCALE:GREGORIAN
BEGIN:VEVENT
DTSTART:20140324T221500Z
DTEND:20140324T234500Z
X-MICROSOFT-CDO-ALLDAYEVENT:FALSE
SUMMARY:Handstands\, Hugs & Highways
DESCRIPTION:Africa Yoga Project teachers Magdaline & Irena have travelled from  Kenya to lead us through a 75 minute Baptiste  yoga class.  We will also get a glimpse into their lives as they bring a bit of Africa to us !
X-ALT-DESC;FMTTYPE=text/html:Africa Yoga Project teachers Magdaline & Irena have travelled from  Kenya to lead us through a 75 minute Baptiste  yoga class.  We will also get a glimpse into their lives as they bring a bit of Africa to us !
LOCATION:Sol Yoga3340 E. Kimberly Rd Davenport\, IA 52803
UID:e.2843.33
SEQUENCE:3
DTSTAMP:20260422T061406Z
URL:https://member.quadcitieschamber.com/events/details/handstands-hugs-highways-03-24-2014-33
END:VEVENT

END:VCALENDAR
