BEGIN:VCALENDAR
VERSION:2.0
PRODID:-//ChamberMaster//Event Calendar 2.0//EN
METHOD:PUBLISH
X-PUBLISHED-TTL:P3D
REFRESH-INTERVAL:P3D
CALSCALE:GREGORIAN
BEGIN:VEVENT
DTSTART:20180610T170000Z
DTEND:20180611T020000Z
X-MICROSOFT-CDO-ALLDAYEVENT:FALSE
SUMMARY:Happy Joe's Kids Foundation Golf Outing
DESCRIPTION:Join us for our annual Golf Outing for Happy Joe's Kids Foundation benefitting children with special needs and their families. Register online at www.HJKids.org PreRegistration required Sponsorships also available: Eagle ($2\,000) Golf for 2 foursomes\, announcement at event\, logo on digital marketing Birdie ($1\,000) Golf for 1 foursome and company recognition at event and on digital marketing and social media Par ($500) Golf for two including recognition on social media.
X-ALT-DESC;FMTTYPE=text/html:<br />\nJoin us for our annual Golf Outing for Happy Joe&rsquo\;s Kids Foundation benefitting children with special needs and their families. Register online at www.HJKids.org PreRegistration required Sponsorships also available: Eagle ($2\,000) Golf for 2 foursomes\, announcement at event\, logo on digital marketing Birdie ($1\,000) Golf for 1 foursome and company recognition at event and on digital marketing and social media Par ($500) Golf for two including recognition on social media.
LOCATION:Fyre Lake Golf Course 1057 Fairway Lane Sherrard\, IL
UID:e.2843.12131
SEQUENCE:3
DTSTAMP:20260423T092122Z
URL:https://member.quadcitieschamber.com/events/details/happy-joe-s-kids-foundation-golf-outing-12131
END:VEVENT

END:VCALENDAR
