BEGIN:VCALENDAR
VERSION:2.0
PRODID:-//ChamberMaster//Event Calendar 2.0//EN
METHOD:PUBLISH
X-PUBLISHED-TTL:P3D
REFRESH-INTERVAL:P3D
CALSCALE:GREGORIAN
BEGIN:VEVENT
DTSTART:20181207T010000Z
DTEND:20181209T200000Z
X-MICROSOFT-CDO-ALLDAYEVENT:FALSE
SUMMARY:Harry Connick Jr’s The Happy Elf
DESCRIPTION:A new musical comedy by the Grammy Award-winning and Tony Award-nominated composer and lyricist\, Harry Connick\, Jr.'s The Happy Elf tells the tale of Eubie the Elf\, a lovable fellow who wants to spread Christmas joy throughout the town of Bluesville. Hoping to introduce a new generation of children to the joys of jazz\, Connick has crafted a musical landscape against which Eubie's story unfolds.\n\n \n\nThe Happy Elf follows Eubie\, the happiest elf at the North Pole. More than anything else\, Eubie longs to be a part of Santa's sleigh team. Instead\, he's stuck checking the naughty-or-nice lists. Then\, one Christmas Eve\, he sees something strange: in the whole town of Bluesville\, not a single person has been nice. With a pinch of elfish magic and a magical whoosh\, Eubie's off to Bluesville. But can he turn a whole town of naughty children nice in just one day?\n\n \n\nFamilies will love this festive tale of overcoming adversity\, friendship\, the power of positivity and believing in yourself! The Happy Elf is destined to become a holiday classic.\n\n \n\nTickets: $20 \n\nAvailable at thespotlighttheatreqc.com or by calling 309-912-7647\n\n*Seats are assigned\n\n \n\nPerformance Dates/Times:\n\n \n\nThursday\, December 6th at 7:30pm\n\nFriday\, December 7th at 7:30pm\n\nSaturday\, December 8th at 2pm AND 7:30pm\n\nSunday December 9th at 2pm\n\n \n\nSpecial for this family friendly musical\, we will be offering a Hot Cocoa bar before the show and at intermission! This added feature is not included in the ticket price.\n\n \n\n*Hot cocoa bar available at all performances starting an hour before the show and during intermission. Beer and wine also available for evening performances. \n\n**Box Office opens at 6:30pm during evening performances and 1pm during matinees\n\n***Doors to the theatre open at 7pm during evening performances and 1:30pm during matinees.\n\n \n\nParking:\n\nParking is available in our parking lot on the East side of the theatre. Once that lot is filled\, you may either use street parking or the parling structure across from the police station.\n\n \n\nHandicap Entrance:\n\nThere is a handicap entrance available on the East side parking lot. Please follow the entrance under the black awning through the hallway to the elevator and take it to the first floor.\n\n \n\nFor any questions\, please call us at 309-912-7647
X-ALT-DESC;FMTTYPE=text/html:<p><span style="font-size:12pt">A new musical comedy by the Grammy Award-winning and Tony Award-nominated composer and lyricist\, Harry Connick\, Jr.&#39\;s The Happy Elf tells the tale of Eubie the Elf\, a lovable fellow who wants to spread Christmas joy throughout the town of Bluesville. Hoping to introduce a new generation of children to the joys of jazz\, Connick has crafted a musical landscape against which Eubie&#39\;s story unfolds.</span></p>\n\n<p>&nbsp\;</p>\n\n<p><span style="font-size:12pt">The Happy Elf follows Eubie\, the happiest elf at the North Pole. More than anything else\, Eubie longs to be a part of Santa&#39\;s sleigh team. Instead\, he&#39\;s stuck checking the naughty-or-nice lists. Then\, one Christmas Eve\, he sees something strange: in the whole town of Bluesville\, not a single person has been nice. With a pinch of elfish magic and a magical whoosh\, Eubie&#39\;s off to Bluesville. But can he turn a whole town of naughty children nice in just one day?</span></p>\n\n<p>&nbsp\;</p>\n\n<p><span style="font-size:12pt">Families will love this festive tale of overcoming adversity\, friendship\, the power of positivity and believing in yourself! The Happy Elf is destined to become a holiday classic.</span></p>\n\n<p>&nbsp\;</p>\n\n<p><span style="font-size:12pt">Tickets: $20&nbsp\;</span></p>\n\n<p><span style="font-size:12pt">Available at thespotlighttheatreqc.com or by calling 309-912-7647</span></p>\n\n<p><span style="font-size:12pt">*Seats are assigned</span></p>\n\n<p>&nbsp\;</p>\n\n<p><span style="font-size:12pt">Performance Dates/Times:</span></p>\n\n<p>&nbsp\;</p>\n\n<p><span style="font-size:12pt">Thursday\, December 6th at 7:30pm</span></p>\n\n<p><span style="font-size:12pt">Friday\, December 7th at 7:30pm</span></p>\n\n<p><span style="font-size:12pt">Saturday\, December 8th at 2pm AND 7:30pm</span></p>\n\n<p><span style="font-size:12pt">Sunday December 9th at 2pm</span></p>\n\n<p>&nbsp\;</p>\n\n<p><span style="font-size:12pt">Special for this family friendly musical\, we will be offering a Hot Cocoa bar before the show and at intermission! This added feature is not included in the ticket price.</span></p>\n\n<p>&nbsp\;</p>\n\n<p><span style="font-size:12pt">*Hot cocoa bar available at all performances starting an hour before the show and during intermission. Beer and wine also available for evening performances.&nbsp\;</span></p>\n\n<p><span style="font-size:12pt">**Box Office opens at 6:30pm during evening performances and 1pm during matinees</span></p>\n\n<p><span style="font-size:12pt">***Doors to the theatre open at 7pm during evening performances and 1:30pm during matinees.</span></p>\n\n<p>&nbsp\;</p>\n\n<p><span style="font-size:12pt">Parking:</span></p>\n\n<p><span style="font-size:12pt">Parking is available in our parking lot on the East side of the theatre. Once that lot is filled\, you may either use street parking or the parling structure across from the police station.</span></p>\n\n<p>&nbsp\;</p>\n\n<p><span style="font-size:12pt">Handicap Entrance:</span></p>\n\n<p><span style="font-size:12pt">There is a handicap entrance available on the East side parking lot. Please follow the entrance under the black awning through the hallway to the elevator and take it to the first floor.</span></p>\n\n<p>&nbsp\;</p>\n\n<p><span style="font-size:12pt">For any questions\, please call us at 309-912-7647</span></p>\n
LOCATION:The Spotlight Theatre
UID:e.2843.13576
SEQUENCE:3
DTSTAMP:20260423T011758Z
URL:https://member.quadcitieschamber.com/events/details/harry-connick-jr-s-the-happy-elf-13576
END:VEVENT

END:VCALENDAR
