BEGIN:VCALENDAR
VERSION:2.0
PRODID:-//ChamberMaster//Event Calendar 2.0//EN
METHOD:PUBLISH
X-PUBLISHED-TTL:P3D
REFRESH-INTERVAL:P3D
CALSCALE:GREGORIAN
BEGIN:VEVENT
DTSTART:20200208T173000Z
DTEND:20200208T200000Z
X-MICROSOFT-CDO-ALLDAYEVENT:FALSE
SUMMARY:Have a Heart for the Homeless Luncheon
DESCRIPTION:7th Annual Have a Heart Luncheon co-hosted by Humility Homes and Services\, Inc.\, in Davenport and Christian Care in Rock Island. On any given day\, 500 Quad Cities residents benefit from the housing programs\, meals\, and supportive services offered by HHSI and Christian Care. Guest speaker is Mikhayla Hughes-Shaw\, VP with Love Girls Magazine.
X-ALT-DESC;FMTTYPE=text/html:7th Annual Have a Heart Luncheon co-hosted by Humility Homes and Services\, Inc.\, in Davenport and Christian Care in Rock Island. On any given day\, 500 Quad Cities residents benefit from the housing programs\, meals\, and supportive services offered by HHSI and Christian Care. Guest speaker is Mikhayla Hughes-Shaw\, VP with Love Girls Magazine.
LOCATION:Jumer's Casino and Hotel 777 Jumer's Dr. Rock Island\, IL
UID:e.2843.17462
SEQUENCE:3
DTSTAMP:20260422T001111Z
URL:https://member.quadcitieschamber.com/events/details/have-a-heart-for-the-homeless-luncheon-17462
END:VEVENT

END:VCALENDAR
