BEGIN:VCALENDAR
VERSION:2.0
PRODID:-//ChamberMaster//Event Calendar 2.0//EN
METHOD:PUBLISH
X-PUBLISHED-TTL:P3D
REFRESH-INTERVAL:P3D
CALSCALE:GREGORIAN
BEGIN:VEVENT
DTSTART:20190618T233000Z
DTEND:20190619T003000Z
X-MICROSOFT-CDO-ALLDAYEVENT:FALSE
SUMMARY:Have your allergies kicked in yet?
DESCRIPTION:Did you know that many allergies can be improved with proper nutrition and whole food supplements?  \n\n\n\nSummer brings pollen and other allergens that can trigger all kinds of issues. We have many natural solutions to help the body restore health and eliminate allergies.  \n\n\n\nAll new guests will receive a free health screening that evening and then enjoy $20 off their initial consultation with us.
X-ALT-DESC;FMTTYPE=text/html:Did you know that many allergies can be improved with proper nutrition and whole food supplements?&nbsp\;&nbsp\;<br />\n<br />\nSummer brings pollen and other allergens that can trigger all kinds of issues. We have many natural solutions to help the body restore health and eliminate allergies.&nbsp\;&nbsp\;<br />\n<br />\nAll new guests will receive a free health screening that evening and then enjoy $20 off their initial consultation with us.
LOCATION:NutritionWorks Holistic Health 2255 Kimberly Road Bettendorf\, IA 52722
UID:e.2843.15399
SEQUENCE:3
DTSTAMP:20260422T131558Z
URL:https://member.quadcitieschamber.com/events/details/have-your-allergies-kicked-in-yet-15399
END:VEVENT

END:VCALENDAR
