BEGIN:VCALENDAR
VERSION:2.0
PRODID:-//ChamberMaster//Event Calendar 2.0//EN
METHOD:PUBLISH
X-PUBLISHED-TTL:P3D
REFRESH-INTERVAL:P3D
CALSCALE:GREGORIAN
BEGIN:VEVENT
DTSTART:20120621T163000Z
DTEND:20120621T183000Z
X-MICROSOFT-CDO-ALLDAYEVENT:FALSE
SUMMARY:Hawkeye International Open House
DESCRIPTION:YOU are invited! Hawkeye International is having an Open House in your area.  We greatly appreciate our Customers and would like you to join us for a COMPLIMENTARY MEAL and PRIZES! Mark Your Calendars: Thursday\, June 21\, 2012                                11:30 a.m. - 1:30 p.m.                                3665 W. 83rd St.\, Davenport IA ***Register to WIN an ipad!*** Please RSVP - Heather Bahnsen\, Marketing ManagerCall 563.326.4002 ext. 1155or email: hbahnsen@hawkeyetrucks.com
X-ALT-DESC;FMTTYPE=text/html:<DIV style="FONT-FAMILY: Arial">YOU are invited!</DIV><DIV style="FONT-FAMILY: Arial">&nbsp\;</DIV><DIV style="FONT-FAMILY: Arial">Hawkeye International is having an Open House in your area.&nbsp\; We greatly appreciate our Customers and would like you to join us for a COMPLIMENTARY MEAL and PRIZES!</DIV><DIV style="FONT-FAMILY: Arial">&nbsp\;</DIV><DIV style="FONT-FAMILY: Arial">Mark Your Calendars: Thursday\, June 21\, 2012</DIV><DIV style="FONT-FAMILY: Arial">&nbsp\;&nbsp\;&nbsp\;&nbsp\;&nbsp\;&nbsp\;&nbsp\;&nbsp\;&nbsp\;&nbsp\;&nbsp\;&nbsp\;&nbsp\;&nbsp\;&nbsp\;&nbsp\;&nbsp\;&nbsp\;&nbsp\;&nbsp\;&nbsp\;&nbsp\;&nbsp\;&nbsp\;&nbsp\;&nbsp\;&nbsp\;&nbsp\;&nbsp\; &nbsp\; 11:30 a.m. - 1:30 p.m.</DIV><DIV style="FONT-FAMILY: Arial">&nbsp\;&nbsp\;&nbsp\;&nbsp\;&nbsp\;&nbsp\;&nbsp\;&nbsp\;&nbsp\;&nbsp\;&nbsp\;&nbsp\;&nbsp\;&nbsp\;&nbsp\;&nbsp\;&nbsp\;&nbsp\;&nbsp\;&nbsp\;&nbsp\;&nbsp\;&nbsp\;&nbsp\;&nbsp\;&nbsp\;&nbsp\;&nbsp\;&nbsp\;&nbsp\;&nbsp\; 3665 W. 83rd St.\, Davenport IA</DIV><DIV style="FONT-FAMILY: Arial">&nbsp\;</DIV><DIV style="FONT-FAMILY: Arial">***Register to WIN an ipad!***</DIV><DIV style="FONT-FAMILY: Arial">&nbsp\;</DIV><DIV style="FONT-FAMILY: Arial">Please RSVP - Heather Bahnsen\, Marketing Manager</DIV><DIV style="FONT-FAMILY: Arial">Call 563.326.4002 ext. 1155</DIV><DIV style="FONT-FAMILY: Arial">or email: hbahnsen@hawkeyetrucks.com</DIV>
LOCATION:Hawkeye International Trucks3665 W. 83rd St. Davenport\, IA 52806
UID:e.2843.394
SEQUENCE:3
DTSTAMP:20260421T235009Z
URL:https://member.quadcitieschamber.com/events/details/hawkeye-international-open-house-06-21-2012-394
END:VEVENT

END:VCALENDAR
