BEGIN:VCALENDAR
VERSION:2.0
PRODID:-//ChamberMaster//Event Calendar 2.0//EN
METHOD:PUBLISH
X-PUBLISHED-TTL:P3D
REFRESH-INTERVAL:P3D
CALSCALE:GREGORIAN
BEGIN:VEVENT
DTSTART:20180413T130000Z
DTEND:20180413T220000Z
X-MICROSOFT-CDO-ALLDAYEVENT:FALSE
SUMMARY:Hazardous Waste Operations & Emergency Response (HAZWOPER) Refresher
DESCRIPTION:This course is the annual refresher to the 40-Hour Hazardous Waste Operations and Emergency Response course (29 CFR 1910.120). It fulfills the requirement for both workers and supervisors. To register\, call 563-441-4100.
X-ALT-DESC;FMTTYPE=text/html:This course is the annual refresher to the 40-Hour Hazardous Waste Operations and Emergency Response course (29 CFR 1910.120). It fulfills the requirement for both workers and supervisors. To register\, call 563-441-4100.
LOCATION:Midwest Center for Public Safety Training\, 8200 N. Fairmount\, Davenport\, IA 52806
UID:e.2843.12115
SEQUENCE:3
DTSTAMP:20260423T123156Z
URL:https://member.quadcitieschamber.com/events/details/hazardous-waste-operations-emergency-response-hazwoper-refresher-04-13-2018-12115
END:VEVENT

END:VCALENDAR
