BEGIN:VCALENDAR
VERSION:2.0
PRODID:-//ChamberMaster//Event Calendar 2.0//EN
METHOD:PUBLISH
X-PUBLISHED-TTL:P3D
REFRESH-INTERVAL:P3D
CALSCALE:GREGORIAN
BEGIN:VEVENT
DTSTART:20130924T123000Z
DTEND:20130924T140000Z
X-MICROSOFT-CDO-ALLDAYEVENT:FALSE
SUMMARY:Health Care Reform: What Your Business Needs to Know
DESCRIPTION:The number one obstacle to business growth that our members cite is the uncertainty related to the Affordable Care Act. Join your Chamber and a panel of experts to discuss what healthcare reform means\, and how it might impact your bottom line. Help us frame the discussion to meet your needs by sending us your questions before the event. Tweet @ChamberQC or post to our Facebook page with the hashtag #HealthCareQC to have them answered by our panel of experts. Speakers for this session include Tom Schuetz\, CEO\, Group Services\; Laura Minzer\, Executive Director\, Healthcare Council for the Illinois Chamber of Commerce and Dennis Foldenauer\, Healthcare Specialist for the US Small Business Administration and Michael Byrne\, HR Attorney\, Lane & Waterman. The panel will be moderated by Dan Kueter\, President\, Provicare LLC.
X-ALT-DESC;FMTTYPE=text/html:<DIV><P style="MARGIN: 0in 0in 0pt"><SPAN style="FONT-FAMILY: 'Tahoma'\,'sans-serif'\; COLOR: black\; FONT-SIZE: 10pt"><FONT face=Arial><FONT size=3>The number one obstacle to business growth that our members cite is the uncertainty related to the Affordable Care Act. Join your Chamber and a panel of experts to discuss what healthcare reform means\, and how it might impact your bottom line.<?xml:namespace prefix = o ns = "urn:schemas-microsoft-com:office:office" /><o:p></o:p></FONT></FONT></SPAN></P><P style="MARGIN: 0in 0in 0pt" class=MsoNormal><SPAN style="FONT-FAMILY: 'Tahoma'\,'sans-serif'\; COLOR: black\; FONT-SIZE: 10pt"><o:p><FONT size=3 face=Arial>&nbsp\;</FONT></o:p></SPAN></P><P style="MARGIN: 0in 0in 0pt"><SPAN style="FONT-FAMILY: 'Tahoma'\,'sans-serif'\; COLOR: black\; FONT-SIZE: 10pt"><FONT size=3 face=Arial>Help us frame the discussion to meet your needs by sending us your questions before the event. Tweet @ChamberQC or post to our </FONT><A href="http://r20.rs6.net/tn.jsp?e=001qcx0JKQoMFlTLw7yGCt8xhHxRYAYKJ-Fayk3MzKd6HAeopNoMkseleuRvB6_lW-kjrdcJHcfaB_Ux6i2Fi8Emb2hKObl1evIrh7U3b9qGrOHOicVt1hnpPKcz1jTyKuQ" shape=rect target=_blank linktype="1" track="on"><SPAN style="COLOR: #0000f2"><FONT size=3 face=Arial>Facebook page</FONT></SPAN></A><FONT face=Arial><FONT size=3> with the hashtag #HealthCareQC to have them answered by our panel of experts.<o:p></o:p></FONT></FONT></SPAN></P><P style="MARGIN: 0in 0in 0pt"><SPAN style="FONT-FAMILY: 'Tahoma'\,'sans-serif'\; COLOR: black\; FONT-SIZE: 10pt"><FONT face=Arial><FONT size=3>&nbsp\;<o:p></o:p></FONT></FONT></SPAN></P><P style="MARGIN: 0in 0in 0pt"><SPAN style="FONT-FAMILY: 'Tahoma'\,'sans-serif'\; COLOR: black\; FONT-SIZE: 10pt"><FONT face=Arial><FONT size=3>Speakers for this session include Tom Schuetz\, CEO\, Group Services\; Laura Minzer\, Executive Director\, Healthcare Council for the Illinois Chamber of Commerce and Dennis Foldenauer\, Healthcare Specialist for the US Small Business Administration and <SPAN style="FONT-FAMILY: 'Calibri'\,'sans-serif'\; FONT-SIZE: 11pt\; mso-fareast-font-family: Calibri\; mso-fareast-theme-font: minor-latin\; mso-bidi-font-family: 'Times New Roman'\; mso-ansi-language: EN-US\; mso-fareast-language: EN-US\; mso-bidi-language: AR-SA">Michael Byrne\, HR Attorney\, Lane &amp\; Waterman</SPAN>. The panel will be moderated by Dan Kueter\, President\, Provicare LLC.<o:p></o:p></FONT></FONT></SPAN></P></DIV>
LOCATION:Eastern Iowa Community College ATEEC Building201 N. Harrison Street Davenport\, IA 52801
UID:e.2843.666
SEQUENCE:3
DTSTAMP:20260421T202040Z
URL:https://member.quadcitieschamber.com/events/details/health-care-reform-what-your-business-needs-to-know-09-24-2013-666
END:VEVENT

END:VCALENDAR
