BEGIN:VCALENDAR
VERSION:2.0
PRODID:-//ChamberMaster//Event Calendar 2.0//EN
METHOD:PUBLISH
X-PUBLISHED-TTL:P3D
REFRESH-INTERVAL:P3D
CALSCALE:GREGORIAN
BEGIN:VEVENT
DTSTART:20181114T003000Z
DTEND:20181114T013000Z
X-MICROSOFT-CDO-ALLDAYEVENT:FALSE
SUMMARY:Health Talk: Holidazed? Coping with Stress During the Holidays
DESCRIPTION:Most of us experience stress on a daily basis. Between work\, family life\, relationships\, schedules\, finances\, etc\, it seems that stress is inevitable in today's world. Add in the holidays - too many commitments\, financial burdens\, time with extended family (or\, contrarily\, loneliness) - and all that stress becomes a real burden on our bodies.\n\n \n\nStress might be inevitable\, but how we handle it is within our control. Join Lori as she speaks on stress\, how it affects our bodies\, and the importance of maintaining healthy routines during the busy holiday season. Learn how NutritionWorks and BioEnergetic Medicine can empower your body to heal itself of the adverse effects of stress.
X-ALT-DESC;FMTTYPE=text/html:<div>Most of us experience stress on a daily basis. Between work\, family life\, relationships\, schedules\, finances\, etc\, it seems that stress is inevitable in today&#39\;s&nbsp\;world. Add in the holidays - too many commitments\, financial burdens\, time with extended family (or\, contrarily\, loneliness) - and all that stress becomes a real burden on our bodies.</div>\n\n<div>&nbsp\;</div>\n\n<div>Stress might be inevitable\, but how we handle it is within our control. Join Lori as she speaks on stress\, how it affects our bodies\, and the importance of maintaining healthy routines during the busy holiday season. Learn how NutritionWorks and BioEnergetic Medicine can empower your body to heal itself of the adverse effects of stress.</div>\n
LOCATION:NutritionWorks Holistic Health 2255 Kimberly Rd\, Bettendorf\, IA 52722
UID:e.2843.13534
SEQUENCE:3
DTSTAMP:20260423T014347Z
URL:https://member.quadcitieschamber.com/events/details/health-talk-holidazed-coping-with-stress-during-the-holidays-13534
END:VEVENT

END:VCALENDAR
