BEGIN:VCALENDAR
VERSION:2.0
PRODID:-//ChamberMaster//Event Calendar 2.0//EN
METHOD:PUBLISH
X-PUBLISHED-TTL:P3D
REFRESH-INTERVAL:P3D
CALSCALE:GREGORIAN
BEGIN:VEVENT
DTSTART:20180718T233000Z
DTEND:20180719T003000Z
X-MICROSOFT-CDO-ALLDAYEVENT:FALSE
SUMMARY:Health Talk: Overcoming Fatigue
DESCRIPTION:Do you live your life in a state of exhaustion? Do you wake up feeling like you didn't sleep at all? Do you crash in the afternoon?\n\n\n\nHave you ever wondered why you're so tired all of the time? Most will say it's from aging\, but that's not necessarily true.\n\n\n\nJoin us as we talk about the causes behind chronic fatigue and how BioEnergetic Medicine and a holistic lifestyle can help our bodies regain and maintain good energy once and for all.
X-ALT-DESC;FMTTYPE=text/html:<span style="color:rgb(29\, 33\, 41)\; font-family:helvetica\,arial\,sans-serif\; font-size:14px">Do you live your life in a state of exhaustion? Do you wake up feeling like you didn&rsquo\;t sleep at all? Do you crash in the afternoon?</span><br />\n<br />\n<span style="color:rgb(29\, 33\, 41)\; font-family:helvetica\,arial\,sans-serif\; font-size:14px">Have you ever wondered why you&rsquo\;re so tired all of the time? Most will say it&rsquo\;s from aging\, but that&rsquo\;s not necessarily true.</span><br />\n<br />\n<span style="color:rgb(29\, 33\, 41)\; font-family:helvetica\,arial\,sans-serif\; font-size:14px">Join us as we talk about the causes behind chronic fatigue and how BioEnergetic Medicine and a holistic lifestyle can help our bodies regain and maintain good energy once and for all.</span>
LOCATION:NutritionWorks Holistic Health 2255 Kimberly Road Bettendorf\, IA 52722
UID:e.2843.13346
SEQUENCE:3
DTSTAMP:20260423T075227Z
URL:https://member.quadcitieschamber.com/events/details/health-talk-overcoming-fatigue-13346
END:VEVENT

END:VCALENDAR
