BEGIN:VCALENDAR
VERSION:2.0
PRODID:-//ChamberMaster//Event Calendar 2.0//EN
METHOD:PUBLISH
X-PUBLISHED-TTL:P3D
REFRESH-INTERVAL:P3D
CALSCALE:GREGORIAN
BEGIN:VEVENT
DTSTART:20130510T150000Z
DTEND:20130510T153000Z
X-MICROSOFT-CDO-ALLDAYEVENT:FALSE
SUMMARY:Heart of America - Elmore Marketplace Groundbreaking
DESCRIPTION:You are invited to attend the groundbreaking of Heart of America’s exciting new development\, Elmore Marketplace on Friday\, May 10th at 10:00am – Located at the 4200 Block on Elmore Avenue in Davenport\, between Lowe’s and Great Escape.The Quad Cities most exciting new retail corridor!Last remaining large retail site on Elmore Avenue wit I-74 frontageSite is already anchored by The Great EscapeVisible to over 50\,000 cars per day23.55 AcresPlease find invitation below\, and visit www.heartofamericagroup.com for more information.
X-ALT-DESC;FMTTYPE=text/html:<P style="MARGIN: 0in 0in 0pt" class=MsoNormal><SPAN style="mso-ascii-font-family: Calibri\; mso-hansi-font-family: Calibri"><FONT face=Calibri>You are invited to attend the groundbreaking of Heart of America’s exciting new development\, Elmore Marketplace <B style="mso-bidi-font-weight: normal">on Friday\, May 10<SUP>th</SUP> at 10:00am</B> – Located at the 4200 Block on Elmore Avenue in Davenport\, between Lowe’s and Great Escape.<?xml:namespace prefix = o ns = "urn:schemas-microsoft-com:office:office" /><o:p></o:p></FONT></SPAN></P><UL type=disc><LI style="LINE-HEIGHT: 13.5pt\; MARGIN: 0in 0in 9pt\; BACKGROUND: white\; mso-margin-top-alt: auto\; mso-list: l0 level1 lfo1\; tab-stops: list .5in" class=MsoNormal><SPAN style="mso-fareast-font-family: 'Times New Roman'\; mso-bidi-font-family: Helvetica\; mso-ansi-language: EN" lang=EN><FONT face=Calibri>The Quad Cities most exciting new retail corridor!<o:p></o:p></FONT></SPAN></LI><LI style="LINE-HEIGHT: 13.5pt\; MARGIN: 0in 0in 9pt\; BACKGROUND: white\; mso-margin-top-alt: auto\; mso-list: l0 level1 lfo1\; tab-stops: list .5in" class=MsoNormal><SPAN style="mso-fareast-font-family: 'Times New Roman'\; mso-bidi-font-family: Helvetica\; mso-ansi-language: EN" lang=EN><FONT face=Calibri>Last remaining large retail site on&nbsp\;Elmore Avenue wit I-74 frontage<o:p></o:p></FONT></SPAN></LI><LI style="LINE-HEIGHT: 13.5pt\; MARGIN: 0in 0in 9pt\; BACKGROUND: white\; mso-margin-top-alt: auto\; mso-list: l0 level1 lfo1\; tab-stops: list .5in" class=MsoNormal><SPAN style="mso-fareast-font-family: 'Times New Roman'\; mso-bidi-font-family: Helvetica\; mso-ansi-language: EN" lang=EN><FONT face=Calibri>Site is already anchored by The Great Escape<o:p></o:p></FONT></SPAN></LI><LI style="LINE-HEIGHT: 13.5pt\; MARGIN: 0in 0in 9pt\; BACKGROUND: white\; mso-margin-top-alt: auto\; mso-list: l0 level1 lfo1\; tab-stops: list .5in" class=MsoNormal><SPAN style="mso-fareast-font-family: 'Times New Roman'\; mso-bidi-font-family: Helvetica\; mso-ansi-language: EN" lang=EN><FONT face=Calibri>Visible to over 50\,000 cars per day<o:p></o:p></FONT></SPAN></LI><LI style="LINE-HEIGHT: 13.5pt\; MARGIN: 0in 0in 9pt\; BACKGROUND: white\; mso-margin-top-alt: auto\; mso-list: l0 level1 lfo1\; tab-stops: list .5in" class=MsoNormal><SPAN style="mso-fareast-font-family: 'Times New Roman'\; mso-bidi-font-family: Helvetica\; mso-ansi-language: EN" lang=EN><FONT face=Calibri>23.55 Acres<o:p></o:p></FONT></SPAN></LI></UL><P style="LINE-HEIGHT: 13.5pt\; MARGIN: 0in 0in 9pt\; BACKGROUND: white\; mso-margin-top-alt: auto" class=MsoNormal><SPAN style="mso-fareast-font-family: 'Times New Roman'\; mso-bidi-font-family: Helvetica\; mso-ansi-language: EN" lang=EN><FONT face=Calibri>Please find invitation below\, and visit </FONT><A href="http://www.heartofamericagroup.com"><FONT face=Calibri>www.heartofamericagroup.com</FONT></A><FONT face=Calibri> for more information.<o:p></o:p></FONT></SPAN></P><DIV>&nbsp\;</DIV>
LOCATION:Elmore Marketplace4200 Block of Elmore Avenue Davenport\, IA
UID:e.2843.583
SEQUENCE:3
DTSTAMP:20260421T135104Z
URL:https://member.quadcitieschamber.com/events/details/heart-of-america-elmore-marketplace-groundbreaking-05-10-2013-583
END:VEVENT

END:VCALENDAR
