BEGIN:VCALENDAR
VERSION:2.0
PRODID:-//ChamberMaster//Event Calendar 2.0//EN
METHOD:PUBLISH
X-PUBLISHED-TTL:P3D
REFRESH-INTERVAL:P3D
CALSCALE:GREGORIAN
BEGIN:VEVENT
DTSTART:20190514T230000Z
DTEND:20190515T000000Z
X-MICROSOFT-CDO-ALLDAYEVENT:FALSE
SUMMARY:Heart to Heart Community Education Series
DESCRIPTION:Are you interested in knowing more about heart disease prevention and treatment? Join UnityPoint Health   Trinity for a Heart to Heart community education session to learn to feel better and live heart healthy. We'll provide the facts and answers you are looking for   and much more. Heart to Heart Tuesday\, May 14 | 6-7 p.m. Presented by Dr. Alyas Chaudhry\, Cardiac Surgery Associates Jardine Auditorium\, Trinity Rock Island Campus Refreshments and giveaway items will be provided. This event is presented free of charge thanks to the generosity of Friends of Trinity. For more information\, visit unitypoint.org.
X-ALT-DESC;FMTTYPE=text/html:Are you interested in knowing more about heart disease prevention and treatment? Join UnityPoint Health &ndash\; Trinity for a Heart to Heart community education session to learn to feel better and live heart healthy. We&rsquo\;ll provide the facts and answers you are looking for &ndash\; and much more. Heart to Heart Tuesday\, May 14 | 6-7 p.m. Presented by Dr. Alyas Chaudhry\, Cardiac Surgery Associates Jardine Auditorium\, Trinity Rock Island Campus Refreshments and giveaway items will be provided. This event is presented free of charge thanks to the generosity of Friends of Trinity. For more information\, visit unitypoint.org.
LOCATION:UnityPoint Health - Trinity Rock Island\, Jardine Auditorium
UID:e.2843.14333
SEQUENCE:3
DTSTAMP:20260422T145705Z
URL:https://member.quadcitieschamber.com/events/details/heart-to-heart-community-education-series-14333
END:VEVENT

END:VCALENDAR
