BEGIN:VCALENDAR
VERSION:2.0
PRODID:-//ChamberMaster//Event Calendar 2.0//EN
METHOD:PUBLISH
X-PUBLISHED-TTL:P3D
REFRESH-INTERVAL:P3D
CALSCALE:GREGORIAN
BEGIN:VEVENT
DTSTART:20120823T220000Z
DTEND:20120823T223000Z
X-MICROSOFT-CDO-ALLDAYEVENT:FALSE
SUMMARY:Herbert Hoover Addition Open House and Ribbon Cutting
DESCRIPTION:Please help us celebrate the Herbert Hoover Elementary School Addition with an Open House and Ribbon Cutting on Thursday\, August 23rd at 5:00pm.  Located at 3223 S. Hampton – turn N on Hampton by Fire Station on Spruce Hills.  Herbert Hoover’s $2.8M\,  12\,530 sq. ft. addition\, added a commons area/cafeteria\, three kindergarten classrooms and one preschool classroom onto the southwest corner of the school.  The project was funded through the Physical Plant &  Equipment Levy (PPEL)\, SAVE (Secure an Advanced Vision for Education) Fund State Sales/Use Tax for School Infrastructure and the district’s general fund. Herbert Hoover Elementary was built in 1966.  Today it serves approximately 425 prekindergarten through fifth grade students.  The groundbreaking for the new addition took place on October 25\, 2011.  The new areas were finished in time for the start of the 2012-2013 school year\, August 15\, 2012.
X-ALT-DESC;FMTTYPE=text/html:<P style="MARGIN: 0in 0in 0pt" class=MsoNormal><FONT face=Calibri>Please help us celebrate the Herbert Hoover Elementary School Addition with an Open House and Ribbon Cutting on Thursday\, August 23<SUP>rd</SUP> at 5:00pm.<SPAN style="mso-spacerun: yes">&nbsp\; </SPAN>Located at 3223 S. Hampton – turn N on Hampton by Fire Station on Spruce Hills.<SPAN style="mso-spacerun: yes">&nbsp\; </SPAN>Herbert Hoover’s $2.8M\,<SPAN style="mso-spacerun: yes">&nbsp\; </SPAN>12\,530 sq. ft. addition\, added a commons area/cafeteria\, three kindergarten classrooms and one preschool classroom onto the southwest corner of the school.<SPAN style="mso-spacerun: yes">&nbsp\; </SPAN>The project was funded through the Physical Plant &amp\;<SPAN style="mso-spacerun: yes">&nbsp\; </SPAN>Equipment Levy (PPEL)\, SAVE (Secure an Advanced Vision for Education) Fund <I style="mso-bidi-font-style: normal">State</I> <I style="mso-bidi-font-style: normal">Sales/Use Tax for School Infrastructure</I> and the district’s general fund.</FONT></P><P style="MARGIN: 0in 0in 0pt" class=MsoNormal><?xml:namespace prefix = o ns = "urn:schemas-microsoft-com:office:office" /><o:p><FONT face=Calibri>&nbsp\;</FONT></o:p></P><P style="MARGIN: 0in 0in 0pt" class=MsoNormal><FONT face=Calibri>Herbert Hoover Elementary was built in 1966.<SPAN style="mso-spacerun: yes">&nbsp\; </SPAN>Today it serves approximately 425 prekindergarten through fifth grade students.<SPAN style="mso-spacerun: yes">&nbsp\; </SPAN>The groundbreaking for the new addition took place on October 25\, 2011.<SPAN style="mso-spacerun: yes">&nbsp\; </SPAN>The new areas were finished in time for the start of the 2012-2013 school year\, August 15\, 2012.</FONT></P><DIV style="FONT-FAMILY: Arial">&nbsp\;</DIV>
LOCATION:3223 South Hampton Dr. Bettendorf\, IA 52722
UID:e.2843.418
SEQUENCE:3
DTSTAMP:20260421T201805Z
URL:https://member.quadcitieschamber.com/events/details/herbert-hoover-addition-open-house-and-ribbon-cutting-08-23-2012-418
END:VEVENT

END:VCALENDAR
