BEGIN:VCALENDAR
VERSION:2.0
PRODID:-//ChamberMaster//Event Calendar 2.0//EN
METHOD:PUBLISH
X-PUBLISHED-TTL:P3D
REFRESH-INTERVAL:P3D
CALSCALE:GREGORIAN
BEGIN:VEVENT
DTSTART:20131024T150000Z
DTEND:20131024T153000Z
X-MICROSOFT-CDO-ALLDAYEVENT:FALSE
SUMMARY:Hilton Garden Inn Ground Breaking
DESCRIPTION:Please join the Hilton Garden Inn as they celebrate the ground breaking of their new facility in Bettendorf on Thursday\, October 24th at 10:00am – Located at 959 Middle Rd. Bettendorf\, IA 52722.  http://mapq.st/18PJF57.   The new Hilton Garden Inn will provide 116 rooms for guests and 2\,500 square feet of meeting space.  This new location will be in close proximity to shopping and I-74.
X-ALT-DESC;FMTTYPE=text/html:<P style="MARGIN: 0in 0in 0pt" class=MsoNormal><FONT face=Calibri>Please join the Hilton Garden Inn as they celebrate the ground breaking of their new facility in Bettendorf on Thursday\, October 24<SUP>th</SUP> at 10:00am – Located at 959 Middle Rd. Bettendorf\, IA 52722.<SPAN style="mso-spacerun: yes">&nbsp\; </SPAN></FONT><A href="http://mapq.st/18PJF57">http://mapq.st/18PJF57</A><FONT face=Calibri>.<SPAN style="mso-spacerun: yes">&nbsp\; </SPAN><?xml:namespace prefix = o ns = "urn:schemas-microsoft-com:office:office" /><o:p></o:p></FONT></P><P style="MARGIN: 0in 0in 0pt" class=MsoNormal><o:p><FONT face=Calibri>&nbsp\;</FONT></o:p></P><P style="MARGIN: 0in 0in 0pt" class=MsoNormal><FONT face=Calibri>The new Hilton Garden Inn will provide 116 rooms for guests and 2\,500 square feet of meeting space.<SPAN style="mso-spacerun: yes">&nbsp\; </SPAN>This new location will be in close proximity to shopping and I-74.<SPAN style="mso-spacerun: yes">&nbsp\; </SPAN></FONT><o:p></o:p></P><P>&nbsp\;</P>
LOCATION:Hilton Garden Inn959 Middle Road Bettendorf\, IA 52722
UID:e.2843.727
SEQUENCE:3
DTSTAMP:20260421T220151Z
URL:https://member.quadcitieschamber.com/events/details/hilton-garden-inn-ground-breaking-10-24-2013-727
END:VEVENT

END:VCALENDAR
