BEGIN:VCALENDAR
VERSION:2.0
PRODID:-//ChamberMaster//Event Calendar 2.0//EN
METHOD:PUBLISH
X-PUBLISHED-TTL:P3D
REFRESH-INTERVAL:P3D
CALSCALE:GREGORIAN
BEGIN:VEVENT
DTSTART;VALUE=DATE:20140317
DTEND;VALUE=DATE:20140701
TRANSP:TRANSPARENT
X-MICROSOFT-CDO-ALLDAYEVENT:TRUE
SUMMARY:Hiring 100 Employees
DESCRIPTION:to expansion into a new office in the Quad Cities\, we are currently hiring for Entry Level Management positions\, and field services positions. Starting income ranges from $60\,000-80\,000/yr respectively depending on experience and position. If you are interested\, please feel free to contact me by phone at 847-207-3350. I look forward to hearing from you!
X-ALT-DESC;FMTTYPE=text/html:to expansion into a new office in the Quad Cities\, we are currently hiring for Entry Level Management positions\, and field services positions. Starting income ranges from $60\,000-80\,000/yr respectively depending on experience and position. If you are interested\, please feel free to contact me by phone at 847-207-3350. I look forward to hearing from you!
LOCATION:1900 State st Suite 3 Bettendorf\, IA 52806
UID:e.2843.35
SEQUENCE:3
DTSTAMP:20260422T061330Z
URL:https://member.quadcitieschamber.com/events/details/hiring-100-employees-03-17-2014-35
END:VEVENT

END:VCALENDAR
