BEGIN:VCALENDAR
VERSION:2.0
PRODID:-//ChamberMaster//Event Calendar 2.0//EN
METHOD:PUBLISH
X-PUBLISHED-TTL:P3D
REFRESH-INTERVAL:P3D
CALSCALE:GREGORIAN
BEGIN:VEVENT
DTSTART:20171117T160000Z
DTEND:20171117T200000Z
X-MICROSOFT-CDO-ALLDAYEVENT:FALSE
SUMMARY:HJKF Ladies Luncheon
DESCRIPTION:Join us for at the Ladies Luncheon and Vendor Show featuring the Sparkle Effect! Learn how they started and the difference they make in high schools around the country! Come early to shop at our Boutique vendor booths. Tickts are $45 each with corporate tables also available. Enjoy a few hours away shopping and visiting with friends. Proceeds benefit Happy Joe's Kids Foundation supporting children with special needs.
X-ALT-DESC;FMTTYPE=text/html:Join us for at the Ladies Luncheon and Vendor Show featuring the Sparkle Effect! Learn how they started and the difference they make in high schools around the country! Come early to shop at our Boutique vendor booths. Tickts are $45 each with corporate tables also available. Enjoy a few hours away shopping and visiting with friends. Proceeds benefit Happy Joe&#39\;s Kids Foundation supporting children with special needs.
LOCATION:Quad Cities Waterfront Convention Center 2021 State St Bettendorf\, IA 52722
UID:e.2843.8586
SEQUENCE:3
DTSTAMP:20260423T195213Z
URL:https://member.quadcitieschamber.com/events/details/hjkf-ladies-luncheon-11-17-2017-8586
END:VEVENT

END:VCALENDAR
