BEGIN:VCALENDAR
VERSION:2.0
PRODID:-//ChamberMaster//Event Calendar 2.0//EN
METHOD:PUBLISH
X-PUBLISHED-TTL:P3D
REFRESH-INTERVAL:P3D
CALSCALE:GREGORIAN
BEGIN:VEVENT
DTSTART:20181109T160000Z
DTEND:20181109T203000Z
X-MICROSOFT-CDO-ALLDAYEVENT:FALSE
SUMMARY:HJKF Ladies Luncheon - 7th Annual
DESCRIPTION:Enjoy a mid-day treat as you shop our fantastic Boutique featuring area vendors - just in time for the holidays! At noon\, we will have a light lunch followed by an inspirational speaker.  \n\nProceeds benefit children with special needs and their families.
X-ALT-DESC;FMTTYPE=text/html:<p><br />\n<span style="font-size:16px\;"><span style="font-family:arial\;">Enjoy a mid-day treat as you shop our fantastic Boutique featuring area vendors - just in time for the holidays! At noon\, we will have a light lunch followed by an inspirational speaker.&nbsp\; </span></span></p>\n\n<p style="text-align:center"><span style="font-size:16px\;"><span style="font-family:arial\;">Proceeds benefit children with special needs and their families.</span></span></p>\n
LOCATION:Waterfront Convention Center 2021 State Street\, Bettendorf\, IA\, 52722
UID:e.2843.13325
SEQUENCE:3
DTSTAMP:20260423T030026Z
URL:https://member.quadcitieschamber.com/events/details/hjkf-ladies-luncheon-7th-annual-13325
END:VEVENT

END:VCALENDAR
