BEGIN:VCALENDAR
VERSION:2.0
PRODID:-//ChamberMaster//Event Calendar 2.0//EN
METHOD:PUBLISH
X-PUBLISHED-TTL:P3D
REFRESH-INTERVAL:P3D
CALSCALE:GREGORIAN
BEGIN:VEVENT
DTSTART:20181209T003000Z
DTEND:20181209T030000Z
X-MICROSOFT-CDO-ALLDAYEVENT:FALSE
SUMMARY:Holiday Champagne and Sparkling Wine Dinner
DESCRIPTION:Enjoy a festive evening out with someone special in the beautifully-decorated Hauberg mansion. A selection of fine quality sparkling wines and champagne from Dimitri Wine and Spirits will be paired with a delicious gourmet meal and Dimitri will discuss the finer points of each selection throughout the evening. For ages 21 and older with valid ID. All proceeds support restoration and operations for the historic Hauberg Estate.
X-ALT-DESC;FMTTYPE=text/html:Enjoy a festive evening out with someone special in the beautifully-decorated Hauberg mansion. A selection of fine quality sparkling wines and champagne from Dimitri Wine and Spirits will be paired with a delicious gourmet meal and Dimitri will discuss the finer points of each selection throughout the evening. For ages 21 and older with valid ID. All proceeds support restoration and operations for the historic Hauberg Estate.&nbsp\;
LOCATION:Hauberg Estate 1300 24th St Rock Island\, IL 61201
UID:e.2843.13573
SEQUENCE:3
DTSTAMP:20260423T011834Z
URL:https://member.quadcitieschamber.com/events/details/holiday-champagne-and-sparkling-wine-dinner-13573
END:VEVENT

END:VCALENDAR
