BEGIN:VCALENDAR
VERSION:2.0
PRODID:-//ChamberMaster//Event Calendar 2.0//EN
METHOD:PUBLISH
X-PUBLISHED-TTL:P3D
REFRESH-INTERVAL:P3D
CALSCALE:GREGORIAN
BEGIN:VEVENT
DTSTART:20131116T190000Z
DTEND:20131116T230000Z
X-MICROSOFT-CDO-ALLDAYEVENT:FALSE
SUMMARY:Holiday Craft and Vendor Show
DESCRIPTION:We are hosting a holiday crafter and vendor show. The public is invited to attend and do their holiday shopping from area direct sellers. Reynoldswood is located at 621 Reynoldswood Road\, Dixon IL. The vendor show will take place in the Manor House at the camp.  \n\n"Come get in the Holiday Spirit\,enjoy the beautiful scenery at Reynoldswood and kick start your Christmas shopping!" said Kendra Hull\, event coordinator. "We have a great bunch of crafters and vendors that will be there\, with a goodvariety of items.  We will have salvaged wood signs & blocks\, hair bows\, and candlesâ€¦just to namea few!  We will also have vendors from Tastefully Simple\, Scentsy\, Mary Kay\, 31\, Lia Sophia\, ACE\, and more!"\n\nRefreshments\, along with a bake sale for the CRIKET After-School program\, and other sales will be in the Dining Hall.  There will also be beautifully decorated Christmas trees\, villages\,and more for your viewing pleasure.
X-ALT-DESC;FMTTYPE=text/html:We are hosting a holiday crafter and vendor show. The public is invited to attend and do their holiday shopping from area direct sellers. Reynoldswood is located at 621 Reynoldswood Road\, Dixon IL. The vendor show will take place in the Manor House at the camp.  \n\n"Come get in the Holiday Spirit\,enjoy the beautiful scenery at Reynoldswood and kick start your Christmas shopping!" said Kendra Hull\, event coordinator. "We have a great bunch of crafters and vendors that will be there\, with a goodvariety of items.  We will have salvaged wood signs & blocks\, hair bows\, and candlesâ€¦just to namea few!  We will also have vendors from Tastefully Simple\, Scentsy\, Mary Kay\, 31\, Lia Sophia\, ACE\, and more!"\n\nRefreshments\, along with a bake sale for the CRIKET After-School program\, and other sales will be in the Dining Hall.  There will also be beautifully decorated Christmas trees\, villages\,and more for your viewing pleasure.\n
LOCATION:621 Reynoldwood Road
UID:e.2843.45
SEQUENCE:3
DTSTAMP:20260421T235218Z
URL:https://member.quadcitieschamber.com/events/details/holiday-craft-and-vendor-show-11-16-2013-45
END:VEVENT

END:VCALENDAR
