BEGIN:VCALENDAR
VERSION:2.0
PRODID:-//ChamberMaster//Event Calendar 2.0//EN
METHOD:PUBLISH
X-PUBLISHED-TTL:P3D
REFRESH-INTERVAL:P3D
CALSCALE:GREGORIAN
BEGIN:VEVENT
DTSTART:20191121T233000Z
DTEND:20191122T033000Z
X-MICROSOFT-CDO-ALLDAYEVENT:FALSE
SUMMARY:Holiday Hat Bash
DESCRIPTION:A group of volunteers believed that Christmas is for all ages and we should not let any senior go without a present. Our "party with a purpose" combines hats with fun and fundraising and has grown every year. By attending the Hat Bash\, you are supporting local seniors during the holidays and all year long. The 2019 Hat Bash will be held on Thursday\, November 21st at 5:30pm. Tickets are just $40 through November 6th and $50 after that.
X-ALT-DESC;FMTTYPE=text/html:A group of volunteers believed that Christmas is for all ages and we should not let any senior go without a present. Our &ldquo\;party with a purpose&rdquo\; combines hats with fun and fundraising and has grown every year. By attending the Hat Bash\, you are supporting local seniors during the holidays and all year long. The 2019 Hat Bash will be held on Thursday\, November 21st at 5:30pm. Tickets are just $40 through November 6th and $50 after that.
LOCATION:Center for Active Seniors\, Inc
UID:e.2843.16899
SEQUENCE:3
DTSTAMP:20260422T082904Z
URL:https://member.quadcitieschamber.com/events/details/holiday-hat-bash-11-21-2019-16899
END:VEVENT

END:VCALENDAR
