BEGIN:VCALENDAR
VERSION:2.0
PRODID:-//ChamberMaster//Event Calendar 2.0//EN
METHOD:PUBLISH
X-PUBLISHED-TTL:P3D
REFRESH-INTERVAL:P3D
CALSCALE:GREGORIAN
BEGIN:VEVENT
DTSTART:20181109T220000Z
DTEND:20181110T020000Z
X-MICROSOFT-CDO-ALLDAYEVENT:FALSE
SUMMARY:Holiday Hop 2019 Presented by Moline Centre
DESCRIPTION:Kick off the holiday shopping season in downtown Moline during the 2nd Annual Holiday Hop! The festivities begin on Friday\, November 9\, highlighting over 40 unique stores\, restaurants\, and much\, much more. The Holiday Hop will feature in-store specials\, live music\, refreshments\, kid's crafts\, Christmas movies\, games\, free trolley transportation and more. \n\nFor more information about participating businesses click here!
X-ALT-DESC;FMTTYPE=text/html:<span style="color: rgb(29\, 33\, 41)\; font-family: Helvetica\, Arial\, sans-serif\; font-size: 14px\; background-color: rgb(255\, 255\, 255)\;">Kick off the holiday shopping season in downtown Moline during the 2nd Annual Holiday Hop! The festivities begin on Friday\, November 9\, highlighting over 40 unique stores\, restaurants\, and much\, much more. The Holiday Hop will feature in-store specials\, live music\, refreshments\, kid&rsquo\;s crafts\, Christmas movies\, games\, free trolley transportation and more.&nbsp\;<br />\nFor more information about participating businesses click <a href="http://www.molinecentre.org/events/moline-centre-holiday-hop-1">here</a>!</span>
LOCATION:Downtown Moline\, Illinois
UID:e.2843.13542
SEQUENCE:3
DTSTAMP:20260423T013431Z
URL:https://member.quadcitieschamber.com/events/details/holiday-hop-2019-presented-by-moline-centre-13542
END:VEVENT

END:VCALENDAR
