BEGIN:VCALENDAR
VERSION:2.0
PRODID:-//ChamberMaster//Event Calendar 2.0//EN
METHOD:PUBLISH
X-PUBLISHED-TTL:P3D
REFRESH-INTERVAL:P3D
CALSCALE:GREGORIAN
BEGIN:VEVENT
DTSTART:20130827T150000Z
DTEND:20130827T153000Z
X-MICROSOFT-CDO-ALLDAYEVENT:FALSE
SUMMARY:Holiday Inn Express Ground Breaking Ceremony
DESCRIPTION:Please help celebrate the ground breaking of the new Holiday Inn Express Hotel on Tuesday\, August 27th  at 10:00 a.m.  – Located at 2300 69th Ave. (near Quad City Airport)  Holiday Inn Express will assist in growing the Quad Cities region by adding approximately  25 new employees as well  as 54\,000 sq. footage. The 100 room hotel is scheduled to open in May\, 2014. \nRefreshments will be provided following the ground breaking ceremony.
X-ALT-DESC;FMTTYPE=text/html:<FONT face=Calibri><P style="MARGIN: 0in 0in 0pt" class=MsoNormal>Please help celebrate the ground breaking of the new Holiday Inn Express Hotel on <B style="mso-bidi-font-weight: normal">Tuesday\, August 27<SUP>th</SUP><SPAN style="mso-spacerun: yes">&nbsp\; </SPAN>at 10:00 a.m. </B><SPAN style="mso-spacerun: yes">&nbsp\;</SPAN>– Located at 2300 69<SUP>th</SUP> Ave. (near Quad City Airport) <?xml:namespace prefix = o ns = "urn:schemas-microsoft-com:office:office" /><o:p></o:p></P><P style="MARGIN: 0in 0in 0pt" class=MsoNormal><o:p>&nbsp\;</o:p></P><P style="MARGIN: 0in 0in 0pt" class=MsoNormal>Holiday Inn Express will assist in growing the Quad Cities region by adding approximately<SPAN style="mso-spacerun: yes">&nbsp\; </SPAN>25 new employees as well<SPAN style="mso-spacerun: yes">&nbsp\; </SPAN>as 54\,000 sq. footage. The 100 room hotel is scheduled to open in May\, 2014. <o:p></o:p></P><P style="MARGIN: 0in 0in 0pt" class=MsoNormal><BR>Refreshments will be provided following the ground breaking ceremony. <o:p></o:p></P><P style="MARGIN: 0in 0in 0pt" class=MsoNormal>&nbsp\;</P><P style="MARGIN: 0in 0in 0pt" class=MsoNormal></FONT>&nbsp\;</P>
LOCATION:Holiday Inn Express2300 69th Avenue\, Moline\, IL Moline\, IL 61265
UID:e.2843.668
SEQUENCE:3
DTSTAMP:20260421T170058Z
URL:https://member.quadcitieschamber.com/events/details/holiday-inn-express-ground-breaking-ceremony-08-27-2013-668
END:VEVENT

END:VCALENDAR
