BEGIN:VCALENDAR
VERSION:2.0
PRODID:-//ChamberMaster//Event Calendar 2.0//EN
METHOD:PUBLISH
X-PUBLISHED-TTL:P3D
REFRESH-INTERVAL:P3D
CALSCALE:GREGORIAN
BEGIN:VEVENT
DTSTART:20201208T130000Z
DTEND:20210104T230000Z
X-MICROSOFT-CDO-ALLDAYEVENT:FALSE
SUMMARY:Holiday Pop Up Market
DESCRIPTION:Forget Amazon and Walmart this holiday season\, let's rally around our small businesses! Join us for a new take on pop-up markets as we feature 30+ Midwest Makers and the Iron + Grain Boutiques this season. Join us Monday\, November 16th - Monday\, January 4th for local small business shopping. Per the state of IL\, masks are required at Iron + Grain and no more than 25 people will be allowed in at a time. Thank you to our sponsor\, MetroNet. MetroNet is a customer-focused company providing cutting-edge fiber optic telecommunication services\, including high-speed Fiber Internet\, full-featured Fiber Phone\, Fiber IPTV with a wide variety of programming and products.
X-ALT-DESC;FMTTYPE=text/html:Forget Amazon and Walmart this holiday season\, let&#39\;s rally around our small businesses! Join us for a new take on pop-up markets as we feature 30+ Midwest Makers and the Iron + Grain Boutiques this season. Join us Monday\, November 16th - Monday\, January 4th for local small business shopping. Per the state of IL\, masks are required at Iron + Grain and no more than 25 people will be allowed in at a time. Thank you to our sponsor\, MetroNet. MetroNet is a customer-focused company providing cutting-edge fiber optic telecommunication services\, including high-speed Fiber Internet\, full-featured Fiber Phone\, Fiber IPTV with a wide variety of programming and products.
LOCATION:Iron + Grain Coffee House
UID:e.2843.18371
SEQUENCE:3
DTSTAMP:20260421T062533Z
URL:https://member.quadcitieschamber.com/events/details/holiday-pop-up-market-18371
END:VEVENT

END:VCALENDAR
