BEGIN:VCALENDAR
VERSION:2.0
PRODID:-//ChamberMaster//Event Calendar 2.0//EN
METHOD:PUBLISH
X-PUBLISHED-TTL:P3D
REFRESH-INTERVAL:P3D
CALSCALE:GREGORIAN
BEGIN:VEVENT
DTSTART:20190411T223000Z
DTEND:20190412T000000Z
X-MICROSOFT-CDO-ALLDAYEVENT:FALSE
SUMMARY:Home Buyers' Workshop
DESCRIPTION:R.I.A. Federal Credit Union will host a FREE workshop to help people navigate the home buying process.  You'll hear from local experts about mortgages\, real estate\, property inspections\, appraisals\, and closing processes.  Get your home buying questions answered and enjoy a free dinner!  \n\n\n\nYou do not have to be a member of R.I.A. Federal Credit Union to attend\, but spaces are limited.  Please RSVP to Helen at hwols@riafcu.com if you'd like to attend.
X-ALT-DESC;FMTTYPE=text/html:R.I.A. Federal Credit Union will host a FREE workshop to help people navigate the home buying process.&nbsp\; You&#39\;ll hear from local experts about mortgages\, real estate\, property inspections\, appraisals\, and closing processes.&nbsp\; Get your home buying questions answered and enjoy a free dinner!&nbsp\;&nbsp\;<br />\n<br />\nYou do not have to be a member of R.I.A. Federal Credit Union to attend\, but spaces are limited.&nbsp\; Please RSVP to Helen at hwols@riafcu.com if you&#39\;d like to attend.
LOCATION:R.I.A. Federal Credit Union\, Bettendorf Corporate Center\, 4343 Utica Ridge Road.
UID:e.2843.14261
SEQUENCE:3
DTSTAMP:20260422T163719Z
URL:https://member.quadcitieschamber.com/events/details/home-buyers-workshop-04-11-2019-14261
END:VEVENT

END:VCALENDAR
