BEGIN:VCALENDAR
VERSION:2.0
PRODID:-//ChamberMaster//Event Calendar 2.0//EN
METHOD:PUBLISH
X-PUBLISHED-TTL:P3D
REFRESH-INTERVAL:P3D
CALSCALE:GREGORIAN
BEGIN:VEVENT
DTSTART:20180424T230000Z
DTEND:20180425T003000Z
X-MICROSOFT-CDO-ALLDAYEVENT:FALSE
SUMMARY:Home Buyers' Workshop
DESCRIPTION:R.I.A. Federal Credit Union is organizing a Home Buyers' Workshop on April 24th at 6:00 pm at our Bettendorf Corporate Center\, 4343 Utica Ridge Road. We'll have a panel of area experts   realtor\, appraiser\, inspector\, and closing attorney\, as well as one of our mortgage originators   who will help attendees understand the house-buying process\, and answer any questions they have. The workshop is FREE and we will provide dinner. This is open to members and non-members. If you would like to attend\, please email jward@riafcu.com by April 20th. Spaces are limited!
X-ALT-DESC;FMTTYPE=text/html:<p>R.I.A. Federal Credit Union is organizing a Home Buyers&rsquo\; Workshop on April 24th at 6:00 pm at our Bettendorf Corporate Center\, 4343 Utica Ridge Road. We&rsquo\;ll have a panel of area experts &ndash\; realtor\, appraiser\, inspector\, and closing attorney\, as well as one of our mortgage originators &ndash\; who will help attendees understand the house-buying process\, and answer any questions they have. The workshop is FREE and we will provide dinner. This is open to members and non-members. If you would like to attend\, please email jward@riafcu.com by April 20th. Spaces are limited!</p>\n
LOCATION:R.I.A. Federal Credit Union\, 4343 Utica Ridge Road\, Bettendorf
UID:e.2843.12129
SEQUENCE:3
DTSTAMP:20260423T122700Z
URL:https://member.quadcitieschamber.com/events/details/home-buyers-workshop-12129
END:VEVENT

END:VCALENDAR
