BEGIN:VCALENDAR
VERSION:2.0
PRODID:-//ChamberMaster//Event Calendar 2.0//EN
METHOD:PUBLISH
X-PUBLISHED-TTL:P3D
REFRESH-INTERVAL:P3D
CALSCALE:GREGORIAN
BEGIN:VEVENT
DTSTART:20130415T170000Z
DTEND:20130415T173000Z
X-MICROSOFT-CDO-ALLDAYEVENT:FALSE
SUMMARY:Honeywell Technology Solutions Inc. (HTSI) Ribbon Cutting
DESCRIPTION:Please help celebrate new member and new location\, Honeywell Technology Solutions Inc. with a ribbon cutting on Monday\, April 15th at Noon – Located at 1479 Gillespie St.\, Bldg. 131\, Suite 304\, Rock Island Arsenal – take Rodman Avenue to Gillespie St.\, South to Bldg 131. HTSI is a wholly-owned subsidiary of Honeywell International.  They are a premier provider of Space\, Engineering\, Operations\, Logistics and Security Solutions and Services currently supporting a wide variety of customers including the Department of Defense\, Department of State\, the Military Services\, NASA\, NOAA\, Airport and Port Authorities\, and Universities at over 155 locations (14 countries\, 39 states and the District of Columbia). For more information\, please visit www.honeywell.com.
X-ALT-DESC;FMTTYPE=text/html:<DIV style="FONT-FAMILY: Arial"><P style="MARGIN: 0in 0in 0pt" class=MsoNormal><FONT face=Calibri>Please help celebrate new member and new location\, Honeywell Technology Solutions Inc. with a ribbon cutting on <B style="mso-bidi-font-weight: normal">Monday\, April 15<SUP>th</SUP> at Noon</B> – Located at 1479 Gillespie St.\, Bldg. 131\, Suite 304\, Rock Island Arsenal – take Rodman Avenue to Gillespie St.\, South to Bldg 131.</FONT></P><P style="MARGIN: 0in 0in 0pt" class=MsoNormal><?xml:namespace prefix = o ns = "urn:schemas-microsoft-com:office:office" /><o:p><FONT face=Calibri>&nbsp\;</FONT></o:p></P><P style="MARGIN: 0in 0in 0pt" class=MsoNormal><FONT face=Calibri>HTSI is a wholly-owned subsidiary of Honeywell International.&nbsp\; They are a premier provider of Space\, Engineering\, Operations\, Logistics and Security Solutions and Services currently supporting a wide variety of customers including the Department of Defense\, Department of State\, the Military Services\, NASA\, NOAA\, Airport and Port Authorities\, and Universities at over 155 locations (14 countries\, 39 states and the District of Columbia).</FONT></P><P style="MARGIN: 0in 0in 0pt" class=MsoNormal><o:p><FONT face=Calibri>&nbsp\;</FONT></o:p></P><P style="MARGIN: 0in 0in 0pt" class=MsoNormal><FONT face=Calibri>For more information\, please visit </FONT><A href="http://www.honeywell.com"><FONT face="Times New Roman">www.honeywell.com</FONT></A><FONT face=Calibri>.</FONT></P></DIV>
LOCATION:Honeywell Technology Solutions Inc.1479 Gillespie St. Bldg. 131 Suite 304 Rock Island\, IL 61201
UID:e.2843.559
SEQUENCE:3
DTSTAMP:20260421T105200Z
URL:https://member.quadcitieschamber.com/events/details/honeywell-technology-solutions-inc-htsi-ribbon-cutting-04-15-2013-559
END:VEVENT

END:VCALENDAR
