BEGIN:VCALENDAR
VERSION:2.0
PRODID:-//ChamberMaster//Event Calendar 2.0//EN
METHOD:PUBLISH
X-PUBLISHED-TTL:P3D
REFRESH-INTERVAL:P3D
CALSCALE:GREGORIAN
BEGIN:VEVENT
DTSTART:20140101T060000Z
DTEND:20141231T060000Z
X-MICROSOFT-CDO-ALLDAYEVENT:FALSE
SUMMARY:Hooah! Quad Cities Veteran Hiring Partner
DESCRIPTION:Hooah! Quad Cities Veteran Hiring Partner
X-ALT-DESC;FMTTYPE=text/html:Hooah! Quad Cities Veteran Hiring Partner
LOCATION:
UID:e.2843.1922
SEQUENCE:3
DTSTAMP:20260422T013333Z
URL:https://member.quadcitieschamber.com/events/details/hooah-quad-cities-veteran-hiring-partner-01-01-2014-1922
END:VEVENT

END:VCALENDAR
