BEGIN:VCALENDAR
VERSION:2.0
PRODID:-//ChamberMaster//Event Calendar 2.0//EN
METHOD:PUBLISH
X-PUBLISHED-TTL:P3D
REFRESH-INTERVAL:P3D
CALSCALE:GREGORIAN
BEGIN:VEVENT
DTSTART:20130425T213000Z
DTEND:20130425T220000Z
X-MICROSOFT-CDO-ALLDAYEVENT:FALSE
SUMMARY:Hopkins & Huebner\, P.C. Ribbon Cutting
DESCRIPTION:Please help Hopkins & Huebner\, P.C. celebrate their new location at 100 East Kimberly Road Suite 400\, Davenport (Northwest Bank Tower) on Thursday\, April 25th at 4:30pm.   Hopkins & Huebner\, P.C. is a full service law firm with offices in the Quad Cities\, Des Moines and Adel.  They are also celebrating being in the Quad Cities for 15 years. For more information\, please visit www.hopkinsandhuebner.com.
X-ALT-DESC;FMTTYPE=text/html:<P style="MARGIN: 0in 0in 0pt" class=MsoNormal><FONT face=Calibri>Please help Hopkins &amp\; Huebner\, P.C. celebrate their new location at 100 East Kimberly Road Suite 400\, Davenport (Northwest Bank Tower) on <B style="mso-bidi-font-weight: normal">Thursday\, April 25<SUP>th</SUP> at 4:30pm.<SPAN style="mso-spacerun: yes">&nbsp\; </SPAN><?xml:namespace prefix = o ns = "urn:schemas-microsoft-com:office:office" /><o:p></o:p></B></FONT></P><P style="MARGIN: 0in 0in 0pt" class=MsoNormal><o:p><FONT face=Calibri>&nbsp\;</FONT></o:p></P><P style="MARGIN: 0in 0in 0pt" class=MsoNormal><FONT face=Calibri>Hopkins &amp\; Huebner\, P.C. is a full service law firm with offices in the Quad Cities\, Des Moines and Adel.<SPAN style="mso-spacerun: yes">&nbsp\; </SPAN>They are also celebrating being in the Quad Cities for 15 years.<o:p></o:p></FONT></P><P style="MARGIN: 0in 0in 0pt" class=MsoNormal><o:p><FONT face=Calibri>&nbsp\;</FONT></o:p></P><P style="MARGIN: 0in 0in 0pt" class=MsoNormal><FONT face=Calibri>For more information\, please visit </FONT><A href="http://www.hopkinsandhuebner.com">www.hopkinsandhuebner.com</A><FONT face=Calibri>.<SPAN style="mso-spacerun: yes">&nbsp\; </SPAN></FONT><o:p></o:p></P><DIV style="FONT-FAMILY: Arial">&nbsp\;</DIV>
LOCATION:Hopkins & Huebner\, PC100 E. Kimberly Rd.\, Ste. 400 Davenport\, IA 52806
UID:e.2843.536
SEQUENCE:3
DTSTAMP:20260421T121416Z
URL:https://member.quadcitieschamber.com/events/details/hopkins-huebner-p-c-ribbon-cutting-04-25-2013-536
END:VEVENT

END:VCALENDAR
