BEGIN:VCALENDAR
VERSION:2.0
PRODID:-//ChamberMaster//Event Calendar 2.0//EN
METHOD:PUBLISH
X-PUBLISHED-TTL:P3D
REFRESH-INTERVAL:P3D
CALSCALE:GREGORIAN
BEGIN:VEVENT
DTSTART:20130306T230000Z
DTEND:20130306T233000Z
X-MICROSOFT-CDO-ALLDAYEVENT:FALSE
SUMMARY:Hotel Blackhawk Ribbon Cutting
DESCRIPTION:Please help the Hotel Blackhawk celebrate their AAA Four Diamond Award and their new Autograph Collection affiliation with a ribbon cutting on Wednesday\, March 6th at 5:00pm.  In addition\, a surprise announcement will be made at the event! Autograph Collection provides today’s sophisticated traveler with easy access to an all-in-one gallery of the best independent hotels from around the world\, in every category and for every travel experience.  Best of all\, you can enjoy the benefits of this new partnership with the convenience of booking Hotel Blackhawk and other Autograph Collection hotels at www.autographhotels.com  Additional information regarding the hotel can be found at www.hotelblackhawk.com
X-ALT-DESC;FMTTYPE=text/html:<P style="MARGIN: 0in 0in 0pt" class=MsoNormal><FONT face=Calibri>Please help the Hotel Blackhawk celebrate their AAA Four Diamond Award and their new Autograph Collection affiliation with a ribbon cutting on Wednesday\, March 6<SUP>th</SUP> at 5:00pm.<SPAN style="mso-spacerun: yes">&nbsp\; </SPAN>In addition\, a surprise announcement will be made at the event!</FONT></P><P style="MARGIN: 0in 0in 0pt" class=MsoNormal><?xml:namespace prefix = o ns = "urn:schemas-microsoft-com:office:office" /><o:p><FONT face=Calibri>&nbsp\;</FONT></o:p></P><P style="MARGIN: 0in 0in 0pt" class=MsoNormal><FONT face=Calibri>Autograph Collection provides today’s sophisticated traveler with easy access to an all-in-one gallery of the best independent hotels from around the world\, in every category and for every travel experience.<SPAN style="mso-spacerun: yes">&nbsp\; </SPAN>Best of all\, you can enjoy the benefits of this new partnership with the convenience of booking Hotel Blackhawk and other Autograph Collection hotels at </FONT><A href="http://www.autographhotels.com">www.autographhotels.com</A><FONT face=Calibri> </FONT></P><P style="MARGIN: 0in 0in 0pt" class=MsoNormal><o:p><FONT face=Calibri>&nbsp\;</FONT></o:p></P><P style="MARGIN: 0in 0in 0pt" class=MsoNormal><FONT face=Calibri>Additional information regarding the hotel can be found at </FONT><A href="http://www.hotelblackhawk.com">www.hotelblackhawk.com</A><FONT face=Calibri> </FONT></P><DIV style="FONT-FAMILY: Arial">&nbsp\;</DIV>
LOCATION:Hotel Blackhawk200 E. 3rd St. Davenport\, IA 52801
UID:e.2843.527
SEQUENCE:3
DTSTAMP:20260421T091310Z
URL:https://member.quadcitieschamber.com/events/details/hotel-blackhawk-ribbon-cutting-03-06-2013-527
END:VEVENT

END:VCALENDAR
