BEGIN:VCALENDAR
VERSION:2.0
PRODID:-//ChamberMaster//Event Calendar 2.0//EN
METHOD:PUBLISH
X-PUBLISHED-TTL:P3D
REFRESH-INTERVAL:P3D
CALSCALE:GREGORIAN
BEGIN:VEVENT
DTSTART:20190822T130000Z
DTEND:20190822T140000Z
X-MICROSOFT-CDO-ALLDAYEVENT:FALSE
SUMMARY:How to Budget and Perform Cost Benefit Analysis for Tech Projects
DESCRIPTION:This month's free education event will empower attendees with the right questions and process to develop an accurate budget for your next technology project.\n\nAttendees will leave knowing the steps to take to perform a successful cost-benefit analysis. This process provides business leaders insight into the true costs & returns a technology project can provide.\n\nPresenters Beth Tinsman & Brien Rakoci will simply explain the concepts\, provide real-world examples and give you actionable tips & tricks you can use immediately.  \n\n\n\nRegister today!
X-ALT-DESC;FMTTYPE=text/html:<p>This month&rsquo\;s free education event will empower attendees with the right questions and process to develop an accurate budget for your next technology project.</p>\n\n<p>Attendees will leave knowing the steps to take to perform a successful cost-benefit analysis. This process provides business leaders insight into the true costs &amp\; returns a technology project can provide.</p>\n\n<p>Presenters Beth Tinsman &amp\; Brien Rakoci will simply explain the concepts\, provide real-world examples and give you actionable tips &amp\; tricks you can use immediately.&nbsp\;&nbsp\;<br />\n<br />\n<a href="https://www.eventbrite.com/e/how-to-budget-and-perform-cost-benefit-analysis-for-tech-projects-registration-65266238075?aff=affiliate1" target="_blank">Register today!</a></p>\n
LOCATION:Twin State Technical Services 3543 E. Kimberly Road | Davenport\, IA 52807
UID:e.2843.15470
SEQUENCE:3
DTSTAMP:20260422T100716Z
URL:https://member.quadcitieschamber.com/events/details/how-to-budget-and-perform-cost-benefit-analysis-for-tech-projects-08-22-2019-15470
END:VEVENT

END:VCALENDAR
