BEGIN:VCALENDAR
VERSION:2.0
PRODID:-//ChamberMaster//Event Calendar 2.0//EN
METHOD:PUBLISH
X-PUBLISHED-TTL:P3D
REFRESH-INTERVAL:P3D
CALSCALE:GREGORIAN
BEGIN:VEVENT
DTSTART:20181028T010000Z
DTEND:20181028T070000Z
X-MICROSOFT-CDO-ALLDAYEVENT:FALSE
SUMMARY:Howl UP at the Moon
DESCRIPTION:Wear your favorite costume and join us at UP Skybar for our 2nd Annual Howl UP at the Moon. Special $5.00 Jack-O-Juice cocktail and costume contest prize giveaways every hour starting at 9pm.
X-ALT-DESC;FMTTYPE=text/html:Wear your favorite costume and join us at UP Skybar for our 2nd Annual Howl UP at the Moon. Special $5.00 Jack-O-Juice cocktail and costume contest prize giveaways every hour starting at 9pm.
LOCATION:UP Skybar located atop The Current Iowa 215 N. Main Street Davenport\, Ia 52801
UID:e.2843.13503
SEQUENCE:3
DTSTAMP:20260423T025832Z
URL:https://member.quadcitieschamber.com/events/details/howl-up-at-the-moon-13503
END:VEVENT

END:VCALENDAR
