BEGIN:VCALENDAR
VERSION:2.0
PRODID:-//ChamberMaster//Event Calendar 2.0//EN
METHOD:PUBLISH
X-PUBLISHED-TTL:P3D
REFRESH-INTERVAL:P3D
CALSCALE:GREGORIAN
BEGIN:VEVENT
DTSTART:20170607T163000Z
DTEND:20170607T180000Z
X-MICROSOFT-CDO-ALLDAYEVENT:FALSE
SUMMARY:Hub: Intro to the SBIR Program: Free Money to Develop Your Innovative Technology
DESCRIPTION:Is your Iowa business in need of money to develop your innovative technology? Or is looking for a way to connect with possible investors? Then plan to attend the upcoming workshop\, "Introduction to the Small Business Innovation Research Program:  Free Money to Develop Your Innovative Technology\," held from 11:30 a.m. to 1 p.m.\, Wednesday\, June 7 at the Hilton Garden Inn\, 959 Middle Road\, Bettendorf.\n\n\n\nThe Small Business Innovation Research and Technology Transfer (SBIR/STTR) Outreach Program is designed to increase the rate of successful grant applications for Iowa's innovative businesses seeking federal grants through the Small Business Administration's SBIR/STTR programs. The Federal SBIR/STTR programs award more than $2.6 billion in high-risk R&D funding annually to qualified small businesses. The process is complex with a steep learning curve\, but the impact of receiving millions in non-dilutive funding is worth the effort!\n\n \n\nDuring the workshop guest presenter Jordon Hobfill\, Statewide SBIR/STTR Coordinator\, will cover all aspects of writing SBIR/STTR grants focused on the NSF including: \n\n	eligibility/qualifications\n	sources of funding\n	agency differences\n	understanding what reviewers look for\n	how to find a principal investigator\n	examples of successful Iowa companies\n	available Iowa support programs \n\nThe event is open to Iowa businesses only. There is no cost to attend\, and lunch will be provided.  For more information about the SBIR/STTR Outreach Program\, visit https://iicorp.com/programs/sbir-sttr/.
X-ALT-DESC;FMTTYPE=text/html:<span style="font-size: 14px\;"><span style="font-family: arial\,sans-serif\;">Is your Iowa business in need of money to develop your innovative technology? Or is looking for a way to connect with possible investors? Then plan to attend the upcoming workshop\, &ldquo\;Introduction to the Small Business Innovation Research Program: &nbsp\;Free Money to Develop Your Innovative Technology\,&rdquo\; held from 11:30 a.m. to 1 p.m.\, Wednesday\, June 7 at the Hilton Garden Inn\, </span><span style="font-family: arial\,sans-serif\;">959 Middle Road</span><span style="font-family: arial\,sans-serif\;">\, Bettendorf.</span></span><br />\n<br />\n<span style="font-size: 14px\;"><span style="background: white\;"><span style="font-family: arial\,sans-serif\;">The Small Business Innovation Research and Technology Transfer (SBIR/STTR) Outreach Program is designed to increase the rate of successful grant applications for Iowa&rsquo\;s innovative businesses seeking federal grants through the Small Business Administration&rsquo\;s SBIR/STTR programs. </span></span><span style="font-family: arial\,sans-serif\;">The Federal SBIR/STTR programs award more than $2.6 billion in high-risk R&amp\;D funding annually to qualified small businesses. The process is complex with a steep learning curve\, but the impact of receiving millions in non-dilutive funding is worth the effort!</span><br />\n&nbsp\;<br />\n<span style="font-family: arial\,sans-serif\;">During the workshop guest presenter Jordon Hobfill\, <span style="background: white\; padding: 0in\; border: 1pt windowtext\; border-image: none\; font-style: normal\;">Statewide SBIR/STTR Coordinator</span><span style="background: white\; padding: 0in\; border: 1pt windowtext\; border-image: none\;">\, </span><span style="background: white\; padding: 0in\; border: 1pt windowtext\; border-image: none\; font-style: normal\;">will</span> cover all aspects of writing SBIR/STTR grants focused on the NSF including: </span></span>\n<ul>\n	<li><span style="font-size: 14px\;"><span style="font-family: arial\,sans-serif\;">eligibility/qualifications</span></span></li>\n	<li><span style="font-size: 14px\;"><span style="font-family: arial\,sans-serif\;">sources of funding</span></span></li>\n	<li><span style="font-size: 14px\;"><span style="font-family: arial\,sans-serif\;">agency differences</span></span></li>\n	<li><span style="font-size: 14px\;"><span style="font-family: arial\,sans-serif\;">understanding what reviewers look for</span></span></li>\n	<li><span style="font-size: 14px\;"><span style="font-family: arial\,sans-serif\;">how to find a principal investigator</span></span></li>\n	<li><span style="font-size: 14px\;"><span style="font-family: arial\,sans-serif\;">examples of successful Iowa companies</span></span></li>\n	<li><span style="font-size: 14px\;"><span style="font-family: arial\,sans-serif\;">available Iowa support programs </span></span></li>\n</ul>\n<span style="font-size: 14px\;"><span style="font-family: arial\,sans-serif\;">The event is open to Iowa businesses only. There is no cost to attend\, and lunch will be provided.&nbsp\; For more information about the SBIR/STTR Outreach Program\, visit <a href="https://iicorp.com/programs/sbir-sttr/">https://iicorp.com/programs/sbir-sttr/</a>.&nbsp\;</span></span>
LOCATION:Hilton Garden Inn 959 Middle Road Bettendorf\, IA
UID:e.2843.6041
SEQUENCE:3
DTSTAMP:20260424T015227Z
URL:https://member.quadcitieschamber.com/events/details/hub-intro-to-the-sbir-program-free-money-to-develop-your-innovative-technology-6041
END:VEVENT

END:VCALENDAR
