BEGIN:VCALENDAR
VERSION:2.0
PRODID:-//ChamberMaster//Event Calendar 2.0//EN
METHOD:PUBLISH
X-PUBLISHED-TTL:P3D
REFRESH-INTERVAL:P3D
CALSCALE:GREGORIAN
BEGIN:VEVENT
DTSTART:20190326T170000Z
DTEND:20190326T210000Z
X-MICROSOFT-CDO-ALLDAYEVENT:FALSE
SUMMARY:I-74 Mississippi River Bridge Virtual Reality Experience Opening Day
DESCRIPTION:I-74 Mississippi River Bridge Virtual Reality Experience OPEN March 26 - June 1 at the Rock Island Arsenal Museum. Inspired by cutting-edge virtual reality technology\, the Iowa Department of Transportation partnered with the Institute for Transportation at Iowa State University and the university's Virtual Reality Applications Center to develop a fully immersive experience of the new bridge. Come and explore the new I-74 Bridge and the history of area bridges.\n\n\n\nFREE ADMISSION All visitors must obtain a pass (good for a year) at the Visitor Control Center located at 23 Prospect Drive\, Moline\, IL. Visitors must present an ID (Driver's License\, Passport) and undergo a background check.
X-ALT-DESC;FMTTYPE=text/html:I-74 Mississippi River Bridge Virtual Reality Experience OPEN March 26 - June 1 at the Rock Island Arsenal Museum. Inspired by cutting-edge virtual reality technology\, the Iowa Department of Transportation partnered with the Institute for Transportation at Iowa State University and the university&#39\;s Virtual Reality Applications Center to develop a fully immersive experience of the new bridge. Come and explore the new I-74 Bridge and the history of area bridges.<br />\n<br />\nFREE ADMISSION All visitors must obtain a pass (good for a year) at the Visitor Control Center located at 23 Prospect Drive\, Moline\, IL. Visitors must present an ID (Driver&#39\;s License\, Passport) and undergo a background check.
LOCATION:Rock Island Arsenal Museum 3500 N. Avenue Rock Island Arsenal 61299-5000
UID:e.2843.13823
SEQUENCE:3
DTSTAMP:20260422T183409Z
URL:https://member.quadcitieschamber.com/events/details/i-74-mississippi-river-bridge-virtual-reality-experience-opening-day-13823
END:VEVENT

END:VCALENDAR
