BEGIN:VCALENDAR
VERSION:2.0
PRODID:-//ChamberMaster//Event Calendar 2.0//EN
METHOD:PUBLISH
X-PUBLISHED-TTL:P3D
REFRESH-INTERVAL:P3D
CALSCALE:GREGORIAN
BEGIN:VEVENT
DTSTART:20120709T160000Z
DTEND:20120709T163000Z
X-MICROSOFT-CDO-ALLDAYEVENT:FALSE
SUMMARY:I-74 Technology Park Ground Breaking
DESCRIPTION:Please help the I-74 Technology Park celebrate a ground breaking on Monday\, July 9th at 11:00am.  More information to follow – wanted to get it on your calendars. Located in the heart of the Quad Cities\, the Interstate 74 Technical Park is adjacent to the Interstate 74 corridor on Utica Ridge Road and Tanglefoot Lane in Bettendorf\, IA. It can be accessed by either the Spruce Hills or the 53rd street exit from I-74.
X-ALT-DESC;FMTTYPE=text/html:<DIV style="FONT-FAMILY: Arial"><P style="MARGIN: 0in 0in 0pt" class=MsoNormal><FONT face=Calibri>Please help the I-74 Technology Park celebrate a ground breaking on Monday\, July 9<SUP>th</SUP> at 11:00am.<SPAN style="mso-spacerun: yes">&nbsp\; </SPAN>More information to follow – wanted to get it on your calendars.</FONT></P><P style="MARGIN: 0in 0in 0pt" class=MsoNormal><?xml:namespace prefix = o ns = "urn:schemas-microsoft-com:office:office" /><o:p><FONT face=Calibri>&nbsp\;</FONT></o:p></P><P style="MARGIN: 0in 0in 0pt" class=MsoNormal><SPAN style="mso-ansi-language: EN" lang=EN><FONT face=Calibri>Located in the heart of the Quad Cities\, the Interstate 74 Technical Park is adjacent to the Interstate 74 corridor on Utica Ridge Road and Tanglefoot Lane in Bettendorf\, IA. It can be accessed by either the Spruce Hills or the 53rd street exit from I-74.<o:p></o:p></FONT></SPAN></P></DIV>
LOCATION:Off of Utica Ridge Road near the big Bettendorf Water Tower
UID:e.2843.401
SEQUENCE:3
DTSTAMP:20260421T234905Z
URL:https://member.quadcitieschamber.com/events/details/i-74-technology-park-ground-breaking-07-09-2012-401
END:VEVENT

END:VCALENDAR
