BEGIN:VCALENDAR
VERSION:2.0
PRODID:-//ChamberMaster//Event Calendar 2.0//EN
METHOD:PUBLISH
X-PUBLISHED-TTL:P3D
REFRESH-INTERVAL:P3D
CALSCALE:GREGORIAN
BEGIN:VEVENT
DTSTART:20140624T133000Z
DTEND:20140624T140000Z
X-MICROSOFT-CDO-ALLDAYEVENT:FALSE
SUMMARY:I-80 Equipment Ribbon Cutting
DESCRIPTION:I-80 Equipment\, 20490 E. 550th St. Colona\, IL 61241\, will host a ribbon cutting ceremony to celebrate the opening of their new facility on Tuesday\, June 24th at 8:30am.  http://mapq.st/UGjbRv.  The 25\,000 Square foot facility will sit on 10.5 acres of land and occupy 37 new employees.  I-80 Equipment is the world’s largest used bucket truck dealer that specializes in fully reconditioning used trucks from the ground up. They carry a number of name brand bucket and boom trucks from industry leading manufacturers such as Altec\, Hi-Ranger\, Lift-All\, Terex and more.  I-80 Equipment also has an extensive online listing of trucks that include video\, photos\, and detailed specifications to better assist customers in locating  the perfect bucket trucks to fit their needs.  For more information\, please visit www.I80equipment.com.
X-ALT-DESC;FMTTYPE=text/html:<FONT face=Calibri>I-80 Equipment\, 20490 E. 550<SUP>th</SUP> St. Colona\, IL 61241\, will host a ribbon cutting ceremony to celebrate the opening of their new facility on Tuesday\, June 24<SUP>th</SUP> at 8:30am.<SPAN style="mso-spacerun: yes">&nbsp\; </SPAN><A href="http://mapq.st/UGjbRv"><FONT color=#0000ff face="Times New Roman">http://mapq.st/UGjbRv</FONT></A>.<SPAN style="mso-spacerun: yes">&nbsp\; </SPAN>The 25\,000 Square foot facility will sit on 10.5 acres of land and occupy 37 new employees. <?xml:namespace prefix = o ns = "urn:schemas-microsoft-com:office:office" /><o:p></o:p><P style="MARGIN: 0in 0in 0pt" class=MsoNormal><o:p>&nbsp\;</o:p></P><P style="MARGIN: 0in 0in 0pt" class=MsoNormal>I-80 Equipment is the world’s largest used bucket truck dealer that specializes in fully reconditioning used trucks from the ground up. They carry a number of name brand bucket and boom trucks from industry leading manufacturers such as Altec\, Hi-Ranger\, Lift-All\, Terex and more.<SPAN style="mso-spacerun: yes">&nbsp\; </SPAN>I-80 Equipment also has an extensive online listing of trucks that include video\, photos\, and detailed specifications to better assist customers in locating<SPAN style="mso-spacerun: yes">&nbsp\; </SPAN>the perfect bucket trucks to fit their needs. <o:p></o:p></P><P style="MARGIN: 0in 0in 0pt" class=MsoNormal><o:p>&nbsp\;</o:p></P><P style="MARGIN: 0in 0in 0pt" class=MsoNormal>For more information\, please visit <A href="http://www.I80equipment.com"><FONT color=#0000ff face="Times New Roman">www.I80equipment.com</FONT></A>. <o:p></o:p></P><P></P></FONT>
LOCATION:I-80 Equipment120 Walnut Ln Colona\, IL 61241
UID:e.2843.812
SEQUENCE:3
DTSTAMP:20260422T111257Z
URL:https://member.quadcitieschamber.com/events/details/i-80-equipment-ribbon-cutting-06-24-2014-812
END:VEVENT

END:VCALENDAR
