BEGIN:VCALENDAR
VERSION:2.0
PRODID:-//ChamberMaster//Event Calendar 2.0//EN
METHOD:PUBLISH
X-PUBLISHED-TTL:P3D
REFRESH-INTERVAL:P3D
CALSCALE:GREGORIAN
BEGIN:VEVENT
DTSTART:20090727T050000Z
DTEND:20090727T050000Z
X-MICROSOFT-CDO-ALLDAYEVENT:FALSE
SUMMARY:i.network finale-Meet your VIPS
DESCRIPTION:i.network finale-Meet your VIPS
X-ALT-DESC;FMTTYPE=text/html:i.network finale-Meet your VIPS
LOCATION:
UID:e.2843.3742
SEQUENCE:3
DTSTAMP:20260424T061205Z
URL:https://member.quadcitieschamber.com/events/details/i-network-finale-meet-your-vips-07-27-2009-3742
END:VEVENT

END:VCALENDAR
