BEGIN:VCALENDAR
VERSION:2.0
PRODID:-//ChamberMaster//Event Calendar 2.0//EN
METHOD:PUBLISH
X-PUBLISHED-TTL:P3D
REFRESH-INTERVAL:P3D
CALSCALE:GREGORIAN
BEGIN:VEVENT
DTSTART:20141201T060000Z
DTEND:20141201T060000Z
X-MICROSOFT-CDO-ALLDAYEVENT:FALSE
SUMMARY:Icestravaganza 2014
DESCRIPTION:Icestravaganza 2014
X-ALT-DESC;FMTTYPE=text/html:Icestravaganza 2014
LOCATION:
UID:e.2843.1925
SEQUENCE:3
DTSTAMP:20260422T195457Z
URL:https://member.quadcitieschamber.com/events/details/icestravaganza-2014-12-01-2014-1925
END:VEVENT

END:VCALENDAR
