BEGIN:VCALENDAR
VERSION:2.0
PRODID:-//ChamberMaster//Event Calendar 2.0//EN
METHOD:PUBLISH
X-PUBLISHED-TTL:P3D
REFRESH-INTERVAL:P3D
CALSCALE:GREGORIAN
BEGIN:VEVENT
DTSTART:20140521T210000Z
DTEND:20140521T213000Z
X-MICROSOFT-CDO-ALLDAYEVENT:FALSE
SUMMARY:Ideal Health and Wellness Grand Opening Ribbon Cutting
DESCRIPTION:Ideal Health & Wellness\, 3900 28th Avenue Drive in Moline\, will host a ribbon cutting ceremony to celebrate the grand opening of their new clinic on Wednesday\, May 21st at 4:00pm.  The new integrative clinic will blend conventional and alternative medicines and offer chiropractic and naturopathic medicine\, as well as acupuncture for a truly holistic approach to healthcare.  For more information\, please contact owner/director Katy Frega at 309.281.6230.
X-ALT-DESC;FMTTYPE=text/html:<FONT face=Calibri><P style="MARGIN: 0in 0in 0pt" class=MsoNormal></P><P></FONT></P><FONT face=Calibri><?xml:namespace prefix = o ns = "urn:schemas-microsoft-com:office:office" /><o:p><P style="MARGIN: 0in 0in 0pt" class=MsoNormal>Ideal Health &amp\; Wellness\, 3900 28<SUP>th</SUP> Avenue Drive in Moline\, will host a ribbon cutting ceremony to celebrate the grand opening of their new clinic on Wednesday\, May 21<SUP>st</SUP> at 4:00pm. <o:p></o:p></P><P style="MARGIN: 0in 0in 0pt" class=MsoNormal><o:p>&nbsp\;</o:p></P><P style="MARGIN: 0in 0in 0pt" class=MsoNormal>The new integrative clinic will blend conventional and alternative medicines and offer chiropractic and naturopathic medicine\, as well as acupuncture for a truly holistic approach to healthcare. <o:p></o:p></P><P style="MARGIN: 0in 0in 0pt" class=MsoNormal><o:p>&nbsp\;</o:p></P><P style="MARGIN: 0in 0in 0pt" class=MsoNormal>For more information\, please contact owner/director Katy Frega at 309.281.6230.<SPAN style="mso-spacerun: yes">&nbsp\; </SPAN><o:p></o:p></P><P style="MARGIN: 0in 0in 0pt" class=MsoNormal></o:p>&nbsp\;</P></FONT>
LOCATION:Ideal Health & Wellness3900 28th Ave. Dr. Suite 125 Moline\, IL 61265
UID:e.2843.803
SEQUENCE:3
DTSTAMP:20260422T111903Z
URL:https://member.quadcitieschamber.com/events/details/ideal-health-and-wellness-grand-opening-ribbon-cutting-05-21-2014-803
END:VEVENT

END:VCALENDAR
