BEGIN:VCALENDAR
VERSION:2.0
PRODID:-//ChamberMaster//Event Calendar 2.0//EN
METHOD:PUBLISH
X-PUBLISHED-TTL:P3D
REFRESH-INTERVAL:P3D
CALSCALE:GREGORIAN
BEGIN:VEVENT
DTSTART:20171030T230000Z
DTEND:20171031T003000Z
X-MICROSOFT-CDO-ALLDAYEVENT:FALSE
SUMMARY:Ignite Quad Cities Entrepreneurs Meetup
DESCRIPTION:Let's meet the Quad Cities region's new Angel Investor Group   Riverbend Angels!\n\n \n\nThe Riverbend Angel investors will be on hand to tell of their own Riverbend Angels startupstory\, and share what they are seeking when a startup approaches them for assistance and investment.  Join us and find out where you are in the spectrum! \n\nAbout Riverbend Angels:\n\nRiverbend Angels was established in the greater Quad Cities out of the collective ambition of investors experienced in the business\, technology\, and agriculture industries. Their goal is to help entrepreneurs turn their own ideas and visions into successful companies. Our partners receive personal guidance from the very beginning\, and are provided with all the resources and expert advice they need from our professional team members.\n\nhttps://www.riverbendangels.com/
X-ALT-DESC;FMTTYPE=text/html:<span style="font-size:14px\;"><span style="font-family:arial\;"><strong><span style="color:#2E3E48\;">Let&rsquo\;s meet the Quad Cities region&rsquo\;s new Angel Investor Group &ndash\; Riverbend Angels!</span></strong><br />\n&nbsp\;<br />\nThe Riverbend Angel investors will be on hand to tell of their own Riverbend Angels </span></span><span style="font-size:14px\;"><span style="font-family:arial\;">startup</span></span><span style="font-family:helvetica\,sans-serif\;"><span style="font-size:12.0pt\;"><span style="font-size:14px\;"><span style="font-family:arial\;">story</span></span></span></span><span style="font-family:helvetica\,sans-serif\;"><span style="font-size:12.0pt\;"><span style="font-size:14px\;"><span style="font-family:arial\;">\,</span></span></span></span><span style="font-size:14px\;"><span style="font-family:arial\;"> and share what they are seeking when a startup approaches them for assistance and investment.&nbsp\; Join us and find out where you are in the spectrum!&nbsp\;<br />\nAbout Riverbend Angels:<br />\nRiverbend Angels&nbsp\;</span></span><span style="font-family:helvetica\,sans-serif\;"><span style="font-size:12.0pt\;"><span style="font-size:14px\;"><span style="font-family:arial\;">was</span></span><span style="font-size:14px\;"><span style="font-family:arial\;">&nbsp\;established in the greater Quad Cities out of the collective ambition of investors experienced in the business\, technology\, and agriculture industries. Their goal is to help entrepreneurs turn their own ideas and visions into successful companies. Our partners receive personal guidance from the very&nbsp\;</span></span><span style="font-size:14px\;"><span style="font-family:arial\;">beginning\,</span></span></span></span><span style="font-size:14px\;"><span style="font-family:arial\;">&nbsp\;and are provided with all the resources and expert advice they need from our professional team members.<br />\n<span style="background:white\;"><a href="https://www.riverbendangels.com/">https://www.riverbendangels.com/</a></span></span></span>
LOCATION:Hemispheres Bistro 2504 53rd Ave Bettendorf\, IA 52722
UID:e.2843.8592
SEQUENCE:3
DTSTAMP:20260423T210228Z
URL:https://member.quadcitieschamber.com/events/details/ignite-quad-cities-entrepreneurs-meetup-8592
END:VEVENT

END:VCALENDAR
