BEGIN:VCALENDAR
VERSION:2.0
PRODID:-//ChamberMaster//Event Calendar 2.0//EN
METHOD:PUBLISH
X-PUBLISHED-TTL:P3D
REFRESH-INTERVAL:P3D
CALSCALE:GREGORIAN
BEGIN:VEVENT
DTSTART:20180829T180000Z
DTEND:20180829T190000Z
X-MICROSOFT-CDO-ALLDAYEVENT:FALSE
SUMMARY:Ignite Quad Cities Entrepreneurs Meetup - Intellectual Property Basics
DESCRIPTION:Intellectual Property Basics at the Davenport Public Library\n\n\n\nJoin the Elijah J. McCoy Midwest Regional U.S. Patent and Trademark Office at the Davenport Public Library Patent Trademark and Resource Center to learn about intellectual property and ways to protect your invention as you transition from idea to product.\n\n\n\nThis session is for aspiring entrepreneurs\, innovators\, and students. The program will include:\n\n\n\nFree parking is available in the parking lot next to St. Anthony's Church for library patrons.\n\n\n\nOverview of intellectual property types: patents\, trademarks\, copyrights\, and trade secrets\n\n\n\nWhy innovators and entrepreneurs should consider protecting their IP with patents\n\n\n\nOptions if your invention is already patented\n\n\n\nBringing inventions to market vs. patenting first\n\n\n\nFree to attend\, however space is limited.\n\n\n\nRegister for this event here: https://www.uspto.gov/about-us/uspto-locations/detroit-mi/intellectual-property-basics-davenport-public-library
X-ALT-DESC;FMTTYPE=text/html:<span style="background:#F6F7F8\;"><span style="color:#2E3E48\;"><span style="font-family:helvetica\,sans-serif\;">Intellectual Property Basics at the Davenport Public Library</span></span></span><br />\n<br />\n<span style="color:#2E3E48\;"><span style="font-family:helvetica\,sans-serif\;"><span style="background:#F6F7F8\;">Join the Elijah J. McCoy Midwest Regional U.S. Patent and Trademark Office at the Davenport Public Library Patent Trademark and Resource Center to learn about intellectual property and ways to protect your invention as you transition from idea to product.</span><br />\n<br />\n<span style="background:#F6F7F8\;">This session is for aspiring entrepreneurs\, innovators\, and students. The program will include:</span><br />\n<br />\n<span style="background:#F6F7F8\;">Free parking is available in the parking lot next to St. Anthony&#39\;s Church for library patrons.</span><br />\n<br />\n<span style="background:#F6F7F8\;">Overview of intellectual property types: patents\, trademarks\, copyrights\, and trade secrets</span><br />\n<br />\n<span style="background:#F6F7F8\;">Why innovators and entrepreneurs should consider protecting their IP with patents</span><br />\n<br />\n<span style="background:#F6F7F8\;">Options if your invention is already patented</span><br />\n<br />\n<span style="background:#F6F7F8\;">Bringing inventions to market vs. patenting first</span><br />\n<br />\n<span style="background:#F6F7F8\;">Free to attend\, however space is limited.</span><br />\n<br />\n<span style="background:#F6F7F8\;">Register for this event here:&nbsp\;</span></span></span><a href="https://www.uspto.gov/about-us/uspto-locations/detroit-mi/intellectual-property-basics-davenport-public-library" target="__blank" title="https://www.uspto.gov/about-us/uspto-locations/detroit-mi/intellectual-property-basics-davenport-public-library"><span style="background:#F6F7F8\;text-decoration:none\;text-underline:none\;"><span style="color:#00A2C7\;"><span style="font-family:helvetica\,sans-serif\;">https://www.uspto.gov/about-us/uspto-locations/detroit-mi/intellectual-property-basics-davenport-public-library</span></span></span></a>
LOCATION:Davenport Public Library 321 Main St. Davenport\, IA 52801
UID:e.2843.13405
SEQUENCE:3
DTSTAMP:20260423T062237Z
URL:https://member.quadcitieschamber.com/events/details/ignite-quad-cities-entrepreneurs-meetup-intellectual-property-basics-13405
END:VEVENT

END:VCALENDAR
