BEGIN:VCALENDAR
VERSION:2.0
PRODID:-//ChamberMaster//Event Calendar 2.0//EN
METHOD:PUBLISH
X-PUBLISHED-TTL:P3D
REFRESH-INTERVAL:P3D
CALSCALE:GREGORIAN
BEGIN:VEVENT
DTSTART:20181017T223000Z
DTEND:20181018T003000Z
X-MICROSOFT-CDO-ALLDAYEVENT:FALSE
SUMMARY:Ignite Quad Cities Entrepreneurs Meetup - The Entrepreneurship Journey Panel
DESCRIPTION:Our next Ignite Quad Cities Entrepreneurs Meetup will be hosted in partnership with Quad Cities SCORE:\n\nJoin us for "The Entrepreneurship Journey" Panel featuring Quad Cities SCORE clients:\n\n \n\nJulie Willey\, owner of Willey Bandz\n\nKaty Miller\, owner of Lillie & Pine\n\nTyler Brockel\, owner of Trigger Engineering   2018 Quad Cities Venture School Alumni\n\nConor Flaherty\, co-owner of Germbot   2017 Quad Cities Venture School Alumni\n\n \n\nThese panelists have very different stories of how they came to entrepreneurship and all have fascinating insights into the opportunities and challenges that come with starting and growing a business.  Free to attend\; preregistration is required.   Go here to register:  https://events.r20.constantcontact.com/register/eventReg?oeidk=a07efran58296e6a5d4&oseq=&c=386aa4a0-dde1-11e3-8a8e-d4ae5275b546&ch=3958d530-dde1-11e3-8ab0-d4ae5275b546\n\n \n\nThanks to U.S. Bank for sponsoring the 2018 Quad Cites SCORE "Learn from the Experts" workshop series. \n\n \n\nThank you to our Ignite Quad Cities Annual Sponsors:\n\n\n\nBozeman\, Neighbour\, Patton & Noe\, LLP\n\nBill Karben - Carpentier\, Mitchell\, Goddard & Co.\, LLC\n\nEvan Muench & Lisa Elgin - IH Mississippi Valley Credit Union\n\nKevin M. Linn - Principal Financial
X-ALT-DESC;FMTTYPE=text/html:<span style="font-family:arial\,sans-serif\;"><span style="font-size:12.0pt\;">Our next Ignite Quad Cities Entrepreneurs Meetup will be hosted in partnership with Quad Cities SCORE:</span></span><br />\n<strong><em><span style="color:#1F497D\;"><span style="font-family:arial\,sans-serif\;"><span style="font-size:16.0pt\;">Join us for &ldquo\;The Entrepreneurship Journey&rdquo\; Panel featuring Quad Cities SCORE clients:</span></span></span></em></strong><br />\n&nbsp\;<br />\n<em><span style="font-family:arial\,sans-serif\;"><span style="font-size:12.0pt\;">Julie Willey\, owner of Willey Bandz</span></span></em><br />\n<em><span style="font-family:arial\,sans-serif\;"><span style="font-size:12.0pt\;">Katy Miller\, owner of Lillie &amp\; Pine</span></span></em><br />\n<em><span style="font-family:arial\,sans-serif\;"><span style="font-size:12.0pt\;">Tyler Brockel\, owner of Trigger Engineering &ndash\; 2018 Quad Cities Venture School Alumni</span></span></em><br />\n<em><span style="font-family:arial\,sans-serif\;"><span style="font-size:12.0pt\;">Conor Flaherty\, co-owner of Germbot &ndash\; 2017 Quad Cities Venture School Alumni</span></span></em><br />\n&nbsp\;<br />\n<span style="font-family:arial\,sans-serif\;"><span style="font-size:12.0pt\;">These panelists have very different stories of how they came to entrepreneurship and all have fascinating insights into the opportunities and challenges that come with starting and growing a business.&nbsp\; </span></span><span style="font-family:arial\,sans-serif\;"><span style="font-size:12.0pt\;">Free to attend\; preregistration is required. &nbsp\;&nbsp\;Go here to register:&nbsp\; <a href="https://events.r20.constantcontact.com/register/eventReg?oeidk=a07efran58296e6a5d4&amp\;oseq=&amp\;c=386aa4a0-dde1-11e3-8a8e-d4ae5275b546&amp\;ch=3958d530-dde1-11e3-8ab0-d4ae5275b546">https://events.r20.constantcontact.com/register/eventReg?oeidk=a07efran58296e6a5d4&amp\;oseq=&amp\;c=386aa4a0-dde1-11e3-8a8e-d4ae5275b546&amp\;ch=3958d530-dde1-11e3-8ab0-d4ae5275b546</a></span></span><br />\n&nbsp\;<br />\n<span style="font-family:arial\,sans-serif\;"><span style="font-size:12.0pt\;">Thanks to U.S. Bank for sponsoring the 2018 Quad Cites SCORE &quot\;Learn from the Experts&quot\; workshop series.&nbsp\;</span></span><br />\n&nbsp\;<br />\n<span style="background:#F6F7F8\;"><span style="color:#2E3E48\;"><span style="font-family:helvetica\,sans-serif\;">Thank you to our Ignite Quad Cities Annual Sponsors:</span></span></span><br />\n<br />\n<span style="color:#2E3E48\;"><span style="font-family:helvetica\,sans-serif\;"><span style="background:#F6F7F8\;">Bozeman\, Neighbour\, Patton &amp\; Noe\, LLP</span><br />\n<span style="background:#F6F7F8\;">Bill Karben - Carpentier\, Mitchell\, Goddard &amp\; Co.\, LLC</span><br />\n<span style="background:#F6F7F8\;">Evan Muench &amp\; Lisa Elgin - IH Mississippi Valley Credit Union</span><br />\n<span style="background:#F6F7F8\;">Kevin M. Linn - Principal Financial</span></span></span><br />\n&nbsp\;<br />\n&nbsp\;
LOCATION:Bettendorf Public Library 2950 Learning Campus Dr\, Bettendorf\, IA 52722
UID:e.2843.13513
SEQUENCE:3
DTSTAMP:20260423T043659Z
URL:https://member.quadcitieschamber.com/events/details/ignite-quad-cities-entrepreneurs-meetup-the-entrepreneurship-journey-panel-13513
END:VEVENT

END:VCALENDAR
