BEGIN:VCALENDAR
VERSION:2.0
PRODID:-//ChamberMaster//Event Calendar 2.0//EN
METHOD:PUBLISH
X-PUBLISHED-TTL:P3D
REFRESH-INTERVAL:P3D
CALSCALE:GREGORIAN
BEGIN:VEVENT
DTSTART:20140305T230000Z
DTEND:20140306T010000Z
X-MICROSOFT-CDO-ALLDAYEVENT:FALSE
SUMMARY:Ignite Quad Cities Launch Party
DESCRIPTION:Turn Your Burning Idea into a Business #meetupQC Think Big. Grow. Ignite.  Whether sparking a start-up or fueling a growing business\, Ignite Quad Cities provides a systematic path to growth\, sales\, and success. Ignite is a community of entrepreneurs and business leaders with a vision to grow companies\, jobs\, and profits in the Quad Cities.
X-ALT-DESC;FMTTYPE=text/html:<P style="MARGIN: 0in 0in 0pt\; TEXT-AUTOSPACE: " class=MsoNormal><FONT face=Calibri>Turn Your Burning Idea into a Business<?xml:namespace prefix = o ns = "urn:schemas-microsoft-com:office:office" /><o:p></o:p></FONT></P><P style="MARGIN: 0in 0in 0pt\; TEXT-AUTOSPACE: " class=MsoNormal><o:p><FONT face=Calibri>&nbsp\;</FONT></o:p></P><P style="MARGIN: 0in 0in 0pt\; TEXT-AUTOSPACE: " class=MsoNormal><FONT face=Calibri>#meetupQC<o:p></o:p></FONT></P><DIV style="FONT-FAMILY: Arial">&nbsp\;</DIV><DIV style="FONT-FAMILY: Arial"><P style="MARGIN: 0in 0in 0pt\; TEXT-AUTOSPACE: " class=MsoNormal><FONT face=Calibri>Think Big. Grow. Ignite.</FONT><o:p><FONT face=Calibri>&nbsp\;</FONT></o:p></P><P style="MARGIN: 0in 0in 0pt\; TEXT-AUTOSPACE: " class=MsoNormal><o:p><FONT face=Calibri>&nbsp\;</FONT></o:p></P><P style="MARGIN: 0in 0in 0pt\; TEXT-AUTOSPACE: " class=MsoNormal><FONT face=Calibri>Whether sparking a start-up or fueling a growing business\, Ignite Quad Cities provides a systematic path to growth\, sales\, and success. Ignite is a community of entrepreneurs and business leaders with a vision to grow companies\, jobs\, and profits in the Quad Cities.<o:p></o:p></FONT></P></DIV>
LOCATION:Front Street Brewery Tap Room421 W. River Drive Davenport\, IA 52801
UID:e.2843.776
SEQUENCE:3
DTSTAMP:20260422T061330Z
URL:https://member.quadcitieschamber.com/events/details/ignite-quad-cities-launch-party-03-05-2014-776
END:VEVENT

END:VCALENDAR
