BEGIN:VCALENDAR
VERSION:2.0
PRODID:-//ChamberMaster//Event Calendar 2.0//EN
METHOD:PUBLISH
X-PUBLISHED-TTL:P3D
REFRESH-INTERVAL:P3D
CALSCALE:GREGORIAN
BEGIN:VEVENT
DTSTART:20180913T130000Z
DTEND:20180913T140000Z
X-MICROSOFT-CDO-ALLDAYEVENT:FALSE
SUMMARY:Ignite Quad Cities - Open Coffee
DESCRIPTION:ADA Compliance for Your Website   What You Need to Know!\n\n \n\nADA compliance on websites has become a legal issue that is being tried more often\, which can be seen by the number of suits filed within the last few years.\n\n\n\nThere are many benefits of a compliant website. Most notably\, avoiding potential lawsuits\, but also\, it's the right thing to do. By having an accessible website\, you can show that your company is committed to diversifying and helping others by doing things the right way.\n\n\n\nWhat you will learn:\n\n1. What is the Americans with Disabilities Act (ADA)?\n\n2. Who does the ADA apply to?\n\n3. Lessons from recent lawsuits\n\n4. Benefits of a compliant website\n\n5. How is website compliance measured?\n\n6. The new standard: Web Content Accessibility Guidelines (WCAG)\n\n7. Synopsis: EU General Data Protection Regulation (GDPR)\n\n8. Synopsis: Website security\n\n\n\nAbout our Speaker:\n\n\n\nDon Farber\, Chief Strategist at TAG\n\nhttps://tagteam.agency/\n\n\n\nIgnite Quad Cities Open Coffee meets the 2nd and 4th Thursday of the month from 8 - 9:00 AM.\n\n\n\nThis is a casual gathering of entrepreneurs and early stage businesses sharing challenges and best practices to validate and grow their businesses.\n\n\n\nIgnite Quad Cities is an initiative of the Quad Cities Chamber that assists startups and advances the entrepreneurial ecosystem of the Quad Cities region.\n\n\n\nThank you to our Ignite Quad Cities Annual Sponsors:\n\n\n\nCole M. DeBlaey - Bozeman\, Neighbour\, Patton & Noe\, LLP\n\nLisa Elgin - IH Mississippi Valley Credit Union\n\nBill Karben - Carpentier\, Mitchell\, Goddard & Co.\, LLC\n\nKevin M. Linn - Modern Woodmen of America
X-ALT-DESC;FMTTYPE=text/html:<strong><span style="background:#F6F7F8\;"><span style="color:#2E3E48\;"><span style="font-family:helvetica\,sans-serif\;"><span style="font-size:16.0pt\;">ADA Compliance for Your Website &ndash\; What You Need to Know!</span></span></span></span></strong><br />\n&nbsp\;<br />\n<span style="background:#F6F7F8\;"><span style="color:#2E3E48\;"><span style="font-family:helvetica\,sans-serif\;">ADA compliance on websites has become a legal issue that is being tried more often\, which can be seen by the number of suits filed within the last few years.</span></span></span><br />\n<br />\n<span style="color:#2E3E48\;"><span style="font-family:helvetica\,sans-serif\;"><span style="background:#F6F7F8\;">There are many benefits of a compliant website. Most notably\, avoiding potential lawsuits\, but also\, it&rsquo\;s the right thing to do. By having an accessible website\, you can show that your company is committed to diversifying and helping others by doing things the right way.</span><br />\n<br />\n<span style="background:#F6F7F8\;">What you will learn:</span><br />\n<span style="background:#F6F7F8\;">1. What is the Americans with Disabilities Act (ADA)?</span><br />\n<span style="background:#F6F7F8\;">2. Who does the ADA apply to?</span><br />\n<span style="background:#F6F7F8\;">3. Lessons from recent lawsuits</span><br />\n<span style="background:#F6F7F8\;">4. Benefits of a compliant website</span><br />\n<span style="background:#F6F7F8\;">5. How is website compliance measured?</span><br />\n<span style="background:#F6F7F8\;">6. The new standard: Web Content Accessibility Guidelines (WCAG)</span><br />\n<span style="background:#F6F7F8\;">7. Synopsis: EU General Data Protection Regulation (GDPR)</span><br />\n<span style="background:#F6F7F8\;">8. Synopsis: Website security</span><br />\n<br />\n<span style="background:#F6F7F8\;">About our Speaker:</span><br />\n<br />\n<span style="background:#F6F7F8\;">Don Farber\, Chief Strategist at TAG</span></span></span><br />\n<a href="https://tagteam.agency/" target="__blank" title="https://tagteam.agency/"><span style="background:#F6F7F8\;text-decoration:none\;text-underline:none\;"><span style="color:#00A2C7\;"><span style="font-family:helvetica\,sans-serif\;">https://tagteam.agency/</span></span></span></a><br />\n<br />\n<span style="font-size:16px\;"><span style="color: rgb(46\, 62\, 72)\; font-family: &quot\;Graphik Meetup&quot\;\, -apple-system\, BlinkMacSystemFont\, Roboto\, Helvetica\, Arial\, sans-serif\; background-color: rgb(246\, 247\, 248)\;">Ignite Quad Cities Open Coffee meets the 2nd and 4th Thursday of the month from 8 - 9:00 AM.</span><br />\n<br style="color: rgb(46\, 62\, 72)\; font-family: &quot\;Graphik Meetup&quot\;\, -apple-system\, BlinkMacSystemFont\, Roboto\, Helvetica\, Arial\, sans-serif\; font-size: 16px\; background-color: rgb(246\, 247\, 248)\;" />\n<span style="color: rgb(46\, 62\, 72)\; font-family: &quot\;Graphik Meetup&quot\;\, -apple-system\, BlinkMacSystemFont\, Roboto\, Helvetica\, Arial\, sans-serif\; background-color: rgb(246\, 247\, 248)\;">This is a casual gathering of entrepreneurs and early stage businesses sharing challenges and best practices to validate and grow their businesses.</span><br style="color: rgb(46\, 62\, 72)\; font-family: &quot\;Graphik Meetup&quot\;\, -apple-system\, BlinkMacSystemFont\, Roboto\, Helvetica\, Arial\, sans-serif\; font-size: 16px\; background-color: rgb(246\, 247\, 248)\;" />\n<br style="color: rgb(46\, 62\, 72)\; font-family: &quot\;Graphik Meetup&quot\;\, -apple-system\, BlinkMacSystemFont\, Roboto\, Helvetica\, Arial\, sans-serif\; font-size: 16px\; background-color: rgb(246\, 247\, 248)\;" />\n<span style="color: rgb(46\, 62\, 72)\; font-family: &quot\;Graphik Meetup&quot\;\, -apple-system\, BlinkMacSystemFont\, Roboto\, Helvetica\, Arial\, sans-serif\; background-color: rgb(246\, 247\, 248)\;">Ignite Quad Cities is an initiative of the Quad Cities Chamber that assists startups and advances the entrepreneurial ecosystem of the Quad Cities region.<br />\n<br />\nThank you to our Ignite Quad Cities Annual Sponsors:</span><br style="color: rgb(46\, 62\, 72)\; font-family: &quot\;Graphik Meetup&quot\;\, -apple-system\, BlinkMacSystemFont\, Roboto\, Helvetica\, Arial\, sans-serif\; font-size: 16px\; background-color: rgb(246\, 247\, 248)\;" />\n<br style="color: rgb(46\, 62\, 72)\; font-family: &quot\;Graphik Meetup&quot\;\, -apple-system\, BlinkMacSystemFont\, Roboto\, Helvetica\, Arial\, sans-serif\; font-size: 16px\; background-color: rgb(246\, 247\, 248)\;" />\n<span style="color: rgb(46\, 62\, 72)\; font-family: &quot\;Graphik Meetup&quot\;\, -apple-system\, BlinkMacSystemFont\, Roboto\, Helvetica\, Arial\, sans-serif\; background-color: rgb(246\, 247\, 248)\;">Cole M. DeBlaey - Bozeman\, Neighbour\, Patton &amp\; Noe\, LLP</span><br />\n<span style="color: rgb(46\, 62\, 72)\; font-family: &quot\;Graphik Meetup&quot\;\, -apple-system\, BlinkMacSystemFont\, Roboto\, Helvetica\, Arial\, sans-serif\; background-color: rgb(246\, 247\, 248)\;">Lisa Elgin - IH Mississippi Valley Credit Union<br />\nBill Karben - Carpentier\, Mitchell\, Goddard &amp\; Co.\, LLC</span><br />\n<span style="color: rgb(46\, 62\, 72)\; font-family: &quot\;Graphik Meetup&quot\;\, -apple-system\, BlinkMacSystemFont\, Roboto\, Helvetica\, Arial\, sans-serif\; background-color: rgb(246\, 247\, 248)\;">Kevin M. Linn - Modern Woodmen of America</span></span>
LOCATION:coworkqc 102 East 2nd Street Davenport\, IA 52801
UID:e.2843.13385
SEQUENCE:3
DTSTAMP:20260423T043243Z
URL:https://member.quadcitieschamber.com/events/details/ignite-quad-cities-open-coffee-13385
END:VEVENT

END:VCALENDAR
