BEGIN:VCALENDAR
VERSION:2.0
PRODID:-//ChamberMaster//Event Calendar 2.0//EN
METHOD:PUBLISH
X-PUBLISHED-TTL:P3D
REFRESH-INTERVAL:P3D
CALSCALE:GREGORIAN
BEGIN:VEVENT
DTSTART:20180927T130000Z
DTEND:20180927T140000Z
X-MICROSOFT-CDO-ALLDAYEVENT:FALSE
SUMMARY:Ignite Quad Cities - Open Coffee
DESCRIPTION:Lead Now:  Building Influence without a Title\n\n \n\nDon't have the title you want?  Don't have the influence you want?  Not a problem.  Join us as Dan Shows of Shows Coaching shares with us the path to influence.\n\n \n\n            You:  Self Leadership in order to lead others you must first lead yourself\n\n \n\n            Above you:  How are those above you wired and how can you add value\n\n \n\n            Around you: Know your teammates strengths & weaknesses and where you can fill the gaps\n\n \n\n            Below you:  See\, value\, listen\n\n \n\nMore about our Speaker:\n\n \n\nwww.ShowsCoaching.com\n\n \n\n \n\nThank you to our Ignite Quad Cities Annual Sponsors:\n\n \n\nCole M. DeBlaey - Bozeman\, Neighbour\, Patton & Noe\, LLP\n\nBill Karben - Carpentier\, Mitchell\, Goddard & Co.\, LLC\n\nLisa Elgin - IH Mississippi Valley Credit Union\n\nKevin M. Linn - Modern Woodmen of America\n\n \n\nCan't make this event?  Check out Dan at the Live2LeadQC event on Friday\, October 12 at the TaxSlayer Center!\n\n \n\nhttps://www.facebook.com/events/299942203908430/\n\n\n\nIgnite Quad Cities Open Coffee meets the 2nd and 4th Thursday of the month from 8 - 9:00 AM.\n\n\n\nThis is a casual gathering of entrepreneurs and early stage businesses sharing challenges and best practices to validate and grow their businesses.\n\n\n\nIgnite Quad Cities is an initiative of the Quad Cities Chamber that assists startups and advances the entrepreneurial ecosystem of the Quad Cities region.\n\n\n\nThank you to our Ignite Quad Cities Annual Sponsors:\n\n\n\nCole M. DeBlaey - Bozeman\, Neighbour\, Patton & Noe\, LLP\n\nLisa Elgin - IH Mississippi Valley Credit Union\n\nBill Karben - Carpentier\, Mitchell\, Goddard & Co.\, LLC\n\nKevin M. Linn - Modern Woodmen of America
X-ALT-DESC;FMTTYPE=text/html:<strong><span style="font-family:arial\,sans-serif\;"><span style="font-size:16.0pt\;">Lead Now:&nbsp\; Building Influence without a Title</span></span></strong><br />\n&nbsp\;<br />\n<span style="font-family:arial\,sans-serif\;">Don&#39\;t have the title you want?&nbsp\; Don&#39\;t have the influence you want?&nbsp\; Not a problem.&nbsp\; Join us as Dan Shows of Shows Coaching shares with us the path to influence.</span><br />\n&nbsp\;<br />\n<span style="font-family:arial\,sans-serif\;">&bull\;&nbsp\;&nbsp\;&nbsp\;&nbsp\;&nbsp\;&nbsp\;&nbsp\;&nbsp\;&nbsp\;&nbsp\; You:&nbsp\; Self Leadership&hellip\;in order to lead others you must first lead yourself</span><br />\n&nbsp\;<br />\n<span style="font-family:arial\,sans-serif\;">&bull\;&nbsp\;&nbsp\;&nbsp\;&nbsp\;&nbsp\;&nbsp\;&nbsp\;&nbsp\;&nbsp\;&nbsp\; Above you:&nbsp\; How are those above you wired and how can you add value</span><br />\n&nbsp\;<br />\n<span style="font-family:arial\,sans-serif\;">&bull\;&nbsp\;&nbsp\;&nbsp\;&nbsp\;&nbsp\;&nbsp\;&nbsp\;&nbsp\;&nbsp\;&nbsp\; Around you: Know your teammates&hellip\;strengths &amp\; weaknesses and where you can fill the gaps</span><br />\n&nbsp\;<br />\n<span style="font-family:arial\,sans-serif\;">&bull\;&nbsp\;&nbsp\;&nbsp\;&nbsp\;&nbsp\;&nbsp\;&nbsp\;&nbsp\;&nbsp\;&nbsp\; Below you:&nbsp\; See\, value\, listen</span><br />\n&nbsp\;<br />\n<strong><span style="font-family:arial\,sans-serif\;"><span style="font-size:14.0pt\;">More about our Speaker:</span></span></strong><br />\n&nbsp\;<br />\n<span style="font-family:arial\,sans-serif\;"><a href="http://www.ShowsCoaching.com">www.ShowsCoaching.com</a></span><br />\n&nbsp\;<br />\n&nbsp\;<br />\n<strong><span style="font-family:arial\,sans-serif\;"><span style="font-size:14.0pt\;">Thank you to our Ignite Quad Cities Annual Sponsors:</span></span></strong><br />\n&nbsp\;<br />\n<span style="font-family:arial\,sans-serif\;">Cole M. DeBlaey - Bozeman\, Neighbour\, Patton &amp\; Noe\, LLP</span><br />\n<span style="font-family:arial\,sans-serif\;">Bill Karben - Carpentier\, Mitchell\, Goddard &amp\; Co.\, LLC</span><br />\n<span style="font-family:arial\,sans-serif\;">Lisa Elgin - IH Mississippi Valley Credit Union</span><br />\n<span style="font-family:arial\,sans-serif\;">Kevin M. Linn - Modern Woodmen of America</span><br />\n&nbsp\;<br />\n<span style="font-family:arial\,sans-serif\;">Can&#39\;t make this event?&nbsp\; Check out Dan at the Live2LeadQC event on Friday\, October 12 at the TaxSlayer Center!</span><br />\n&nbsp\;<br />\n<span style="font-family:arial\,sans-serif\;"><a href="https://www.facebook.com/events/299942203908430/">https://www.facebook.com/events/299942203908430/</a></span><br />\n<br />\n<span style="font-size: 16px\; color: rgb(46\, 62\, 72)\; font-family: &quot\;Graphik Meetup&quot\;\, -apple-system\, BlinkMacSystemFont\, Roboto\, Helvetica\, Arial\, sans-serif\; background-color: rgb(246\, 247\, 248)\;">Ignite Quad Cities Open Coffee meets the 2nd and 4th Thursday of the month from 8 - 9:00 AM.</span><br style="color: rgb(51\, 51\, 51)\; font-family: sans-serif\, Arial\, Verdana\, &quot\;Trebuchet MS&quot\;\; font-size: 16px\; background-color: rgb(255\, 255\, 255)\;" />\n<br style="font-size: 16px\; color: rgb(46\, 62\, 72)\; font-family: &quot\;Graphik Meetup&quot\;\, -apple-system\, BlinkMacSystemFont\, Roboto\, Helvetica\, Arial\, sans-serif\; background-color: rgb(246\, 247\, 248)\;" />\n<span style="font-size: 16px\; color: rgb(46\, 62\, 72)\; font-family: &quot\;Graphik Meetup&quot\;\, -apple-system\, BlinkMacSystemFont\, Roboto\, Helvetica\, Arial\, sans-serif\; background-color: rgb(246\, 247\, 248)\;">This is a casual gathering of entrepreneurs and early stage businesses sharing challenges and best practices to validate and grow their businesses.</span><br style="font-size: 16px\; color: rgb(46\, 62\, 72)\; font-family: &quot\;Graphik Meetup&quot\;\, -apple-system\, BlinkMacSystemFont\, Roboto\, Helvetica\, Arial\, sans-serif\; background-color: rgb(246\, 247\, 248)\;" />\n<br style="font-size: 16px\; color: rgb(46\, 62\, 72)\; font-family: &quot\;Graphik Meetup&quot\;\, -apple-system\, BlinkMacSystemFont\, Roboto\, Helvetica\, Arial\, sans-serif\; background-color: rgb(246\, 247\, 248)\;" />\n<span style="font-size: 16px\; color: rgb(46\, 62\, 72)\; font-family: &quot\;Graphik Meetup&quot\;\, -apple-system\, BlinkMacSystemFont\, Roboto\, Helvetica\, Arial\, sans-serif\; background-color: rgb(246\, 247\, 248)\;">Ignite Quad Cities is an initiative of the Quad Cities Chamber that assists startups and advances the entrepreneurial ecosystem of the Quad Cities region.<br />\n<br />\nThank you to our Ignite Quad Cities Annual Sponsors:</span><br style="font-size: 16px\; color: rgb(46\, 62\, 72)\; font-family: &quot\;Graphik Meetup&quot\;\, -apple-system\, BlinkMacSystemFont\, Roboto\, Helvetica\, Arial\, sans-serif\; background-color: rgb(246\, 247\, 248)\;" />\n<br style="font-size: 16px\; color: rgb(46\, 62\, 72)\; font-family: &quot\;Graphik Meetup&quot\;\, -apple-system\, BlinkMacSystemFont\, Roboto\, Helvetica\, Arial\, sans-serif\; background-color: rgb(246\, 247\, 248)\;" />\n<span style="font-size: 16px\; color: rgb(46\, 62\, 72)\; font-family: &quot\;Graphik Meetup&quot\;\, -apple-system\, BlinkMacSystemFont\, Roboto\, Helvetica\, Arial\, sans-serif\; background-color: rgb(246\, 247\, 248)\;">Cole M. DeBlaey - Bozeman\, Neighbour\, Patton &amp\; Noe\, LLP</span><br style="color: rgb(51\, 51\, 51)\; font-family: sans-serif\, Arial\, Verdana\, &quot\;Trebuchet MS&quot\;\; font-size: 16px\; background-color: rgb(255\, 255\, 255)\;" />\n<span style="font-size: 16px\; color: rgb(46\, 62\, 72)\; font-family: &quot\;Graphik Meetup&quot\;\, -apple-system\, BlinkMacSystemFont\, Roboto\, Helvetica\, Arial\, sans-serif\; background-color: rgb(246\, 247\, 248)\;">Lisa Elgin - IH Mississippi Valley Credit Union<br />\nBill Karben - Carpentier\, Mitchell\, Goddard &amp\; Co.\, LLC</span><br style="color: rgb(51\, 51\, 51)\; font-family: sans-serif\, Arial\, Verdana\, &quot\;Trebuchet MS&quot\;\; font-size: 16px\; background-color: rgb(255\, 255\, 255)\;" />\n<span style="font-size: 16px\; color: rgb(46\, 62\, 72)\; font-family: &quot\;Graphik Meetup&quot\;\, -apple-system\, BlinkMacSystemFont\, Roboto\, Helvetica\, Arial\, sans-serif\; background-color: rgb(246\, 247\, 248)\;">Kevin M. Linn - Modern Woodmen of America</span>
LOCATION:coworkqc 102 East 2nd Street Davenport\, Iowa 52801
UID:e.2843.13386
SEQUENCE:3
DTSTAMP:20260423T043151Z
URL:https://member.quadcitieschamber.com/events/details/ignite-quad-cities-open-coffee-13386
END:VEVENT

END:VCALENDAR
