BEGIN:VCALENDAR
VERSION:2.0
PRODID:-//ChamberMaster//Event Calendar 2.0//EN
METHOD:PUBLISH
X-PUBLISHED-TTL:P3D
REFRESH-INTERVAL:P3D
CALSCALE:GREGORIAN
BEGIN:VEVENT
DTSTART:20181011T130000Z
DTEND:20181011T140000Z
X-MICROSOFT-CDO-ALLDAYEVENT:FALSE
SUMMARY:Ignite Quad Cities Open Coffee
DESCRIPTION:Let's get back to business and have a good old needs and leads Open Coffee Meetup.\n\n\n\nNo selling presentations here - just be prepared to stand up and let people know what you need help with or what kind of customers you are looking for. Get a good cup of coffee\, meet some people and see how many you can help. You are sure to walk away with some help yourself - that will translate into business.\n\n\n\nFree to attend.\n\n\n\nThank you to our sponsors:\n\n\n\nThank you to our Ignite Quad Cities Annual Sponsors:\n\n\n\nBozeman\, Neighbour\, Patton & Noe\, LLP\n\nBill Karben - Carpentier\, Mitchell\, Goddard & Co.\, LLC\n\nEvan Muench & Lisa Elgin - IH Mississippi Valley Credit Union\n\nKevin M. Linn - Principal Financial
X-ALT-DESC;FMTTYPE=text/html:<span style="color: rgb(46\, 62\, 72)\; font-family: &quot\;Graphik Meetup&quot\;\, -apple-system\, BlinkMacSystemFont\, Roboto\, Helvetica\, Arial\, sans-serif\; font-size: 16px\; background-color: rgb(246\, 247\, 248)\;">Let&#39\;s get back to business and have a good old needs and leads Open Coffee Meetup.</span><br style="color: rgb(46\, 62\, 72)\; font-family: &quot\;Graphik Meetup&quot\;\, -apple-system\, BlinkMacSystemFont\, Roboto\, Helvetica\, Arial\, sans-serif\; font-size: 16px\; background-color: rgb(246\, 247\, 248)\;" />\n<br style="color: rgb(46\, 62\, 72)\; font-family: &quot\;Graphik Meetup&quot\;\, -apple-system\, BlinkMacSystemFont\, Roboto\, Helvetica\, Arial\, sans-serif\; font-size: 16px\; background-color: rgb(246\, 247\, 248)\;" />\n<span style="color: rgb(46\, 62\, 72)\; font-family: &quot\;Graphik Meetup&quot\;\, -apple-system\, BlinkMacSystemFont\, Roboto\, Helvetica\, Arial\, sans-serif\; font-size: 16px\; background-color: rgb(246\, 247\, 248)\;">No selling presentations here - just be prepared to stand up and let people know what you need help with or what kind of customers you are looking for. Get a good cup of coffee\, meet some people and see how many you can help. You are sure to walk away with some help yourself - that will translate into business.</span><br style="color: rgb(46\, 62\, 72)\; font-family: &quot\;Graphik Meetup&quot\;\, -apple-system\, BlinkMacSystemFont\, Roboto\, Helvetica\, Arial\, sans-serif\; font-size: 16px\; background-color: rgb(246\, 247\, 248)\;" />\n<br style="color: rgb(46\, 62\, 72)\; font-family: &quot\;Graphik Meetup&quot\;\, -apple-system\, BlinkMacSystemFont\, Roboto\, Helvetica\, Arial\, sans-serif\; font-size: 16px\; background-color: rgb(246\, 247\, 248)\;" />\n<span style="color: rgb(46\, 62\, 72)\; font-family: &quot\;Graphik Meetup&quot\;\, -apple-system\, BlinkMacSystemFont\, Roboto\, Helvetica\, Arial\, sans-serif\; font-size: 16px\; background-color: rgb(246\, 247\, 248)\;">Free to attend.</span><br style="color: rgb(46\, 62\, 72)\; font-family: &quot\;Graphik Meetup&quot\;\, -apple-system\, BlinkMacSystemFont\, Roboto\, Helvetica\, Arial\, sans-serif\; font-size: 16px\; background-color: rgb(246\, 247\, 248)\;" />\n<br style="color: rgb(46\, 62\, 72)\; font-family: &quot\;Graphik Meetup&quot\;\, -apple-system\, BlinkMacSystemFont\, Roboto\, Helvetica\, Arial\, sans-serif\; font-size: 16px\; background-color: rgb(246\, 247\, 248)\;" />\n<span style="color: rgb(46\, 62\, 72)\; font-family: &quot\;Graphik Meetup&quot\;\, -apple-system\, BlinkMacSystemFont\, Roboto\, Helvetica\, Arial\, sans-serif\; font-size: 16px\; background-color: rgb(246\, 247\, 248)\;">Thank you to our sponsors:</span><br style="color: rgb(46\, 62\, 72)\; font-family: &quot\;Graphik Meetup&quot\;\, -apple-system\, BlinkMacSystemFont\, Roboto\, Helvetica\, Arial\, sans-serif\; font-size: 16px\; background-color: rgb(246\, 247\, 248)\;" />\n<br style="color: rgb(46\, 62\, 72)\; font-family: &quot\;Graphik Meetup&quot\;\, -apple-system\, BlinkMacSystemFont\, Roboto\, Helvetica\, Arial\, sans-serif\; font-size: 16px\; background-color: rgb(246\, 247\, 248)\;" />\n<span style="color: rgb(46\, 62\, 72)\; font-family: &quot\;Graphik Meetup&quot\;\, -apple-system\, BlinkMacSystemFont\, Roboto\, Helvetica\, Arial\, sans-serif\; font-size: 16px\; background-color: rgb(246\, 247\, 248)\;">Thank you to our Ignite Quad Cities Annual Sponsors:</span><br style="color: rgb(46\, 62\, 72)\; font-family: &quot\;Graphik Meetup&quot\;\, -apple-system\, BlinkMacSystemFont\, Roboto\, Helvetica\, Arial\, sans-serif\; font-size: 16px\; background-color: rgb(246\, 247\, 248)\;" />\n<br style="color: rgb(46\, 62\, 72)\; font-family: &quot\;Graphik Meetup&quot\;\, -apple-system\, BlinkMacSystemFont\, Roboto\, Helvetica\, Arial\, sans-serif\; font-size: 16px\; background-color: rgb(246\, 247\, 248)\;" />\n<span style="color: rgb(46\, 62\, 72)\; font-family: &quot\;Graphik Meetup&quot\;\, -apple-system\, BlinkMacSystemFont\, Roboto\, Helvetica\, Arial\, sans-serif\; font-size: 16px\; background-color: rgb(246\, 247\, 248)\;">Bozeman\, Neighbour\, Patton &amp\; Noe\, LLP</span><br style="color: rgb(46\, 62\, 72)\; font-family: &quot\;Graphik Meetup&quot\;\, -apple-system\, BlinkMacSystemFont\, Roboto\, Helvetica\, Arial\, sans-serif\; font-size: 16px\; background-color: rgb(246\, 247\, 248)\;" />\n<span style="color: rgb(46\, 62\, 72)\; font-family: &quot\;Graphik Meetup&quot\;\, -apple-system\, BlinkMacSystemFont\, Roboto\, Helvetica\, Arial\, sans-serif\; font-size: 16px\; background-color: rgb(246\, 247\, 248)\;">Bill Karben - Carpentier\, Mitchell\, Goddard &amp\; Co.\, LLC</span><br style="color: rgb(46\, 62\, 72)\; font-family: &quot\;Graphik Meetup&quot\;\, -apple-system\, BlinkMacSystemFont\, Roboto\, Helvetica\, Arial\, sans-serif\; font-size: 16px\; background-color: rgb(246\, 247\, 248)\;" />\n<span style="color: rgb(46\, 62\, 72)\; font-family: &quot\;Graphik Meetup&quot\;\, -apple-system\, BlinkMacSystemFont\, Roboto\, Helvetica\, Arial\, sans-serif\; font-size: 16px\; background-color: rgb(246\, 247\, 248)\;">Evan Muench &amp\; Lisa Elgin - IH Mississippi Valley Credit Union</span><br style="color: rgb(46\, 62\, 72)\; font-family: &quot\;Graphik Meetup&quot\;\, -apple-system\, BlinkMacSystemFont\, Roboto\, Helvetica\, Arial\, sans-serif\; font-size: 16px\; background-color: rgb(246\, 247\, 248)\;" />\n<span style="color: rgb(46\, 62\, 72)\; font-family: &quot\;Graphik Meetup&quot\;\, -apple-system\, BlinkMacSystemFont\, Roboto\, Helvetica\, Arial\, sans-serif\; font-size: 16px\; background-color: rgb(246\, 247\, 248)\;">Kevin M. Linn - Principal Financial</span>
LOCATION:coworkqc 102 E. 2nd St. Davenport\, IA 52801
UID:e.2843.13505
SEQUENCE:3
DTSTAMP:20260423T025714Z
URL:https://member.quadcitieschamber.com/events/details/ignite-quad-cities-open-coffee-13505
END:VEVENT

END:VCALENDAR
