BEGIN:VCALENDAR
VERSION:2.0
PRODID:-//ChamberMaster//Event Calendar 2.0//EN
METHOD:PUBLISH
X-PUBLISHED-TTL:P3D
REFRESH-INTERVAL:P3D
CALSCALE:GREGORIAN
BEGIN:VEVENT
DTSTART:20181025T130000Z
DTEND:20181025T140000Z
X-MICROSOFT-CDO-ALLDAYEVENT:FALSE
SUMMARY:Ignite Quad Cities Open Coffee
DESCRIPTION:A Good Business Starts With a Bad Problem\n\n\n\nIf you are an entrepreneur and you haven't asked yourself "What do people need?" instead of the usual "How can I make money?" then you're probably doing it wrong. The best way to ensure success with a unique product/service is to make sure that it fixes something that is broken\, or adds even more value to something that's "already good." Join us for a morning of motivation as award-winning community activist\, author\, and speaker\, Jasmine Bozeman\, shares her approach to creating business in the Quad Cities. "Where is the gap and how can I use my gifts and skills to fulfill it?" is a thought process that helps translate what can I offer into what the market is asking for.\n\n\n\nMore about our speaker:\n\nJasmine Bozeman is an articulate\, intelligent\, motivated young woman with a beaming positive outlook on life. She has weathered major life challenges including: being the first in her family to graduate from college\; escaping from a troubled marriage and relocating across the country\; being a divorced single mom of three boys\; and starting her own business while balancing a full-time job\, home life\, and community activism. Jasmine is a published author\, certified motivational speaker\, and engaging community activist. She is the winner of the first ever Girls on Fire Award\, presented by Lead(h)er QC\, and she is a 2018 grant winner of the Royal Neighbors of America Nation of Neighbors award. Jasmine is also the Founder and President of the National Council on Youth Leadership - QC\, the President of Love\, Girls Magazine\, a mentor\, a school volunteer\, a RNA chapter leader\, and the list goes on.\n\n\n\nAs demonstrated by the snapshot of her professional experience\, Jasmine thrives on serving others. She has taken her training and research to a new level by now serving as the Founder & CEO of her own business\, The Degree Experience\, LLC. A feature component is an academy which is committed to supporting high school students and their families successfully navigate post secondary entry\, finance\, and completion.Highlighting college prep and life skills training\, The Degree Experience Academy will launch the fall of 2019.\n\n\n\nhttps://www.jasminebozeman.com/\n\n\n\nThank you to our Ignite Quad Cities Annual Sponsors:\n\n\n\nBozeman\, Neighbour\, Patton & Noe\, LLP\n\nBill Karben - Carpentier\, Mitchell\, Goddard & Co.\, LLC\n\nEvan Muench & Lisa Elgin - IH Mississippi Valley Credit Union\n\nKevin M. Linn - Principal Financial
X-ALT-DESC;FMTTYPE=text/html:<span style="color: rgb(46\, 62\, 72)\; font-family: &quot\;Graphik Meetup&quot\;\, -apple-system\, BlinkMacSystemFont\, Roboto\, Helvetica\, Arial\, sans-serif\; font-size: 16px\; background-color: rgb(246\, 247\, 248)\;">A Good Business Starts With a Bad Problem</span><br style="color: rgb(46\, 62\, 72)\; font-family: &quot\;Graphik Meetup&quot\;\, -apple-system\, BlinkMacSystemFont\, Roboto\, Helvetica\, Arial\, sans-serif\; font-size: 16px\; background-color: rgb(246\, 247\, 248)\;" />\n<br style="color: rgb(46\, 62\, 72)\; font-family: &quot\;Graphik Meetup&quot\;\, -apple-system\, BlinkMacSystemFont\, Roboto\, Helvetica\, Arial\, sans-serif\; font-size: 16px\; background-color: rgb(246\, 247\, 248)\;" />\n<span style="color: rgb(46\, 62\, 72)\; font-family: &quot\;Graphik Meetup&quot\;\, -apple-system\, BlinkMacSystemFont\, Roboto\, Helvetica\, Arial\, sans-serif\; font-size: 16px\; background-color: rgb(246\, 247\, 248)\;">If you are an entrepreneur and you haven&#39\;t asked yourself &quot\;What do people need?&quot\; instead of the usual &quot\;How can I make money?&quot\; then you&#39\;re probably doing it wrong. The best way to ensure success with a unique product/service is to make sure that it fixes something that is broken\, or adds even more value to something that&#39\;s &quot\;already good.&quot\; Join us for a morning of motivation as award-winning community activist\, author\, and speaker\, Jasmine Bozeman\, shares her approach to creating business in the Quad Cities. &quot\;Where is the gap and how can I use my gifts and skills to fulfill it?&quot\; is a thought process that helps translate what can I offer into what the market is asking for.</span><br style="color: rgb(46\, 62\, 72)\; font-family: &quot\;Graphik Meetup&quot\;\, -apple-system\, BlinkMacSystemFont\, Roboto\, Helvetica\, Arial\, sans-serif\; font-size: 16px\; background-color: rgb(246\, 247\, 248)\;" />\n<br style="color: rgb(46\, 62\, 72)\; font-family: &quot\;Graphik Meetup&quot\;\, -apple-system\, BlinkMacSystemFont\, Roboto\, Helvetica\, Arial\, sans-serif\; font-size: 16px\; background-color: rgb(246\, 247\, 248)\;" />\n<span style="color: rgb(46\, 62\, 72)\; font-family: &quot\;Graphik Meetup&quot\;\, -apple-system\, BlinkMacSystemFont\, Roboto\, Helvetica\, Arial\, sans-serif\; font-size: 16px\; background-color: rgb(246\, 247\, 248)\;">More about our speaker:</span><br style="color: rgb(46\, 62\, 72)\; font-family: &quot\;Graphik Meetup&quot\;\, -apple-system\, BlinkMacSystemFont\, Roboto\, Helvetica\, Arial\, sans-serif\; font-size: 16px\; background-color: rgb(246\, 247\, 248)\;" />\n<span style="color: rgb(46\, 62\, 72)\; font-family: &quot\;Graphik Meetup&quot\;\, -apple-system\, BlinkMacSystemFont\, Roboto\, Helvetica\, Arial\, sans-serif\; font-size: 16px\; background-color: rgb(246\, 247\, 248)\;">Jasmine Bozeman is an articulate\, intelligent\, motivated young woman with a beaming positive outlook on life. She has weathered major life challenges including: being the first in her family to graduate from college\; escaping from a troubled marriage and relocating across the country\; being a divorced single mom of three boys\; and starting her own business while balancing a full-time job\, home life\, and community activism. Jasmine is a published author\, certified motivational speaker\, and engaging community activist. She is the winner of the first ever Girls on Fire Award\, presented by Lead(h)er QC\, and she is a 2018 grant winner of the Royal Neighbors of America Nation of Neighbors award. Jasmine is also the Founder and President of the National Council on Youth Leadership - QC\, the President of Love\, Girls Magazine\, a mentor\, a school volunteer\, a RNA chapter leader\, and the list goes on.</span><br style="color: rgb(46\, 62\, 72)\; font-family: &quot\;Graphik Meetup&quot\;\, -apple-system\, BlinkMacSystemFont\, Roboto\, Helvetica\, Arial\, sans-serif\; font-size: 16px\; background-color: rgb(246\, 247\, 248)\;" />\n<br style="color: rgb(46\, 62\, 72)\; font-family: &quot\;Graphik Meetup&quot\;\, -apple-system\, BlinkMacSystemFont\, Roboto\, Helvetica\, Arial\, sans-serif\; font-size: 16px\; background-color: rgb(246\, 247\, 248)\;" />\n<span style="color: rgb(46\, 62\, 72)\; font-family: &quot\;Graphik Meetup&quot\;\, -apple-system\, BlinkMacSystemFont\, Roboto\, Helvetica\, Arial\, sans-serif\; font-size: 16px\; background-color: rgb(246\, 247\, 248)\;">As demonstrated by the snapshot of her professional experience\, Jasmine thrives on serving others. She has taken her training and research to a new level by now serving as the Founder &amp\; CEO of her own business\, The Degree Experience\, LLC. A feature component is an academy which is committed to supporting high school students and their families successfully navigate post secondary entry\, finance\, and completion.Highlighting college prep and life skills training\, The Degree Experience Academy will launch the fall of 2019.</span><br style="color: rgb(46\, 62\, 72)\; font-family: &quot\;Graphik Meetup&quot\;\, -apple-system\, BlinkMacSystemFont\, Roboto\, Helvetica\, Arial\, sans-serif\; font-size: 16px\; background-color: rgb(246\, 247\, 248)\;" />\n<br style="color: rgb(46\, 62\, 72)\; font-family: &quot\;Graphik Meetup&quot\;\, -apple-system\, BlinkMacSystemFont\, Roboto\, Helvetica\, Arial\, sans-serif\; font-size: 16px\; background-color: rgb(246\, 247\, 248)\;" />\n<a class="link" href="https://www.jasminebozeman.com/" style="display: inline\; color: rgb(0\, 162\, 199)\; text-decoration-line: none\; cursor: pointer\; fill: rgb(0\, 162\, 199)\; stroke: transparent\; font-family: &quot\;Graphik Meetup&quot\;\, -apple-system\, BlinkMacSystemFont\, Roboto\, Helvetica\, Arial\, sans-serif\; font-size: 16px\; background-color: rgb(246\, 247\, 248)\;" target="__blank" title="https://www.jasminebozeman.com/">https://www.jasminebozeman.com/</a><br style="color: rgb(46\, 62\, 72)\; font-family: &quot\;Graphik Meetup&quot\;\, -apple-system\, BlinkMacSystemFont\, Roboto\, Helvetica\, Arial\, sans-serif\; font-size: 16px\; background-color: rgb(246\, 247\, 248)\;" />\n<br style="color: rgb(46\, 62\, 72)\; font-family: &quot\;Graphik Meetup&quot\;\, -apple-system\, BlinkMacSystemFont\, Roboto\, Helvetica\, Arial\, sans-serif\; font-size: 16px\; background-color: rgb(246\, 247\, 248)\;" />\n<span style="color: rgb(46\, 62\, 72)\; font-family: &quot\;Graphik Meetup&quot\;\, -apple-system\, BlinkMacSystemFont\, Roboto\, Helvetica\, Arial\, sans-serif\; font-size: 16px\; background-color: rgb(246\, 247\, 248)\;">Thank you to our Ignite Quad Cities Annual Sponsors:</span><br style="color: rgb(46\, 62\, 72)\; font-family: &quot\;Graphik Meetup&quot\;\, -apple-system\, BlinkMacSystemFont\, Roboto\, Helvetica\, Arial\, sans-serif\; font-size: 16px\; background-color: rgb(246\, 247\, 248)\;" />\n<br style="color: rgb(46\, 62\, 72)\; font-family: &quot\;Graphik Meetup&quot\;\, -apple-system\, BlinkMacSystemFont\, Roboto\, Helvetica\, Arial\, sans-serif\; font-size: 16px\; background-color: rgb(246\, 247\, 248)\;" />\n<span style="color: rgb(46\, 62\, 72)\; font-family: &quot\;Graphik Meetup&quot\;\, -apple-system\, BlinkMacSystemFont\, Roboto\, Helvetica\, Arial\, sans-serif\; font-size: 16px\; background-color: rgb(246\, 247\, 248)\;">Bozeman\, Neighbour\, Patton &amp\; Noe\, LLP</span><br style="color: rgb(46\, 62\, 72)\; font-family: &quot\;Graphik Meetup&quot\;\, -apple-system\, BlinkMacSystemFont\, Roboto\, Helvetica\, Arial\, sans-serif\; font-size: 16px\; background-color: rgb(246\, 247\, 248)\;" />\n<span style="color: rgb(46\, 62\, 72)\; font-family: &quot\;Graphik Meetup&quot\;\, -apple-system\, BlinkMacSystemFont\, Roboto\, Helvetica\, Arial\, sans-serif\; font-size: 16px\; background-color: rgb(246\, 247\, 248)\;">Bill Karben - Carpentier\, Mitchell\, Goddard &amp\; Co.\, LLC</span><br style="color: rgb(46\, 62\, 72)\; font-family: &quot\;Graphik Meetup&quot\;\, -apple-system\, BlinkMacSystemFont\, Roboto\, Helvetica\, Arial\, sans-serif\; font-size: 16px\; background-color: rgb(246\, 247\, 248)\;" />\n<span style="color: rgb(46\, 62\, 72)\; font-family: &quot\;Graphik Meetup&quot\;\, -apple-system\, BlinkMacSystemFont\, Roboto\, Helvetica\, Arial\, sans-serif\; font-size: 16px\; background-color: rgb(246\, 247\, 248)\;">Evan Muench &amp\; Lisa Elgin - IH Mississippi Valley Credit Union</span><br style="color: rgb(46\, 62\, 72)\; font-family: &quot\;Graphik Meetup&quot\;\, -apple-system\, BlinkMacSystemFont\, Roboto\, Helvetica\, Arial\, sans-serif\; font-size: 16px\; background-color: rgb(246\, 247\, 248)\;" />\n<span style="color: rgb(46\, 62\, 72)\; font-family: &quot\;Graphik Meetup&quot\;\, -apple-system\, BlinkMacSystemFont\, Roboto\, Helvetica\, Arial\, sans-serif\; font-size: 16px\; background-color: rgb(246\, 247\, 248)\;">Kevin M. Linn - Principal Financial</span>
LOCATION:coworkqc 102 E. 2nd St. Davenport\, IA 52801
UID:e.2843.13506
SEQUENCE:3
DTSTAMP:20260423T025725Z
URL:https://member.quadcitieschamber.com/events/details/ignite-quad-cities-open-coffee-13506
END:VEVENT

END:VCALENDAR
