BEGIN:VCALENDAR
VERSION:2.0
PRODID:-//ChamberMaster//Event Calendar 2.0//EN
METHOD:PUBLISH
X-PUBLISHED-TTL:P3D
REFRESH-INTERVAL:P3D
CALSCALE:GREGORIAN
BEGIN:VEVENT
DTSTART:20181129T133000Z
DTEND:20181129T150000Z
X-MICROSOFT-CDO-ALLDAYEVENT:FALSE
SUMMARY:Ignite Quad Cities - Open Coffee
DESCRIPTION:How About a Stress-Less Holiday this Year?!\n\n\n\n \n\n\n\nLet's face it - not a lot of work gets done during the holidays. However\, there are ways to set ourselves up for being more productive! Join us and get some tips and tricks to survive and thrive during this holiday season:\n\n\n\n \n\n\n\n** Be productive and get work done\, while balancing holiday parties! \n\n\n\n** Successfully navigate your work and home relationships around the holidays!\n\n\n\n** Create your vision and goals for the next year!\n\n\n\n \n\n\n\nAbout our Speaker:\n\n\n\nRumaisa Khawaja is a Life Coach and the Director of Outreach and Media Relations for Mandala Integrative Medicine which has given her experience in fostering both personal and professional relationships.\n\n\n\n \n\n\n\nAfter completing her studies at the Wright Graduate University for the Realization of Human Potential\, she became a Certified Coach in Emotional Intelligence.\n\n\n\n \n\n\n\nRumaisa has built her career helping people achieve dynamic\, positive changes in their lives by providing them meaningful tools they can successfully and consistently integrate into their day-to-day activities.\n\n\n\n \n\n\n\nhttps://coachrumaisa.com/\n\n\n\n \n\n\n\nThank you to our Ignite Quad Cities Annual Sponsors:\n\n\n\nBozeman\, Neighbour\, Patton & Noe\, LLP\n\n\n\nBill Karben - Carpentier\, Mitchell\, Goddard & Co.\, LLC\n\n\n\nEvan Muench & Lisa Elgin - IH Mississippi Valley Credit Union\n\n\n\nKevin M. Linn - Principal Financial\n\n\n\n \n\n\n\nAnd our new Coffee Sponsor:\n\n\n\nCaffeine Queen Espresso Catering\n\n\n\nhttps://www.facebook.com/pg/CaffeineQueenEspresso/
X-ALT-DESC;FMTTYPE=text/html:<div data-block="true" data-editor="8i1r9" data-offset-key="brvq1-0-0" style="font-family: Helvetica\, Arial\, sans-serif\; color: rgb(29\, 33\, 41)\; font-size: 12px\; white-space: pre-wrap\; background-color: rgb(255\, 255\, 255)\;">\n<div class="_1mf _1mj" style="position: relative\; font-family: inherit\;"><span style="font-size:14px\;"><strong><span data-offset-key="brvq1-0-0" style="font-family: inherit\;">How About a Stress-Less Holiday this Year?!</span></strong></span></div>\n</div>\n\n<div data-block="true" data-editor="8i1r9" data-offset-key="692sk-0-0" style="font-family: Helvetica\, Arial\, sans-serif\; color: rgb(29\, 33\, 41)\; font-size: 12px\; white-space: pre-wrap\; background-color: rgb(255\, 255\, 255)\;">\n<div class="_1mf _1mj" style="position: relative\; font-family: inherit\;">&nbsp\;</div>\n</div>\n\n<div data-block="true" data-editor="8i1r9" data-offset-key="d68kc-0-0" style="font-family: Helvetica\, Arial\, sans-serif\; color: rgb(29\, 33\, 41)\; font-size: 12px\; white-space: pre-wrap\; background-color: rgb(255\, 255\, 255)\;">\n<div class="_1mf _1mj" style="position: relative\; font-family: inherit\;"><span style="font-size:14px\;"><span data-offset-key="91i9p-0-0" style="font-family: inherit\;">Let&rsquo\;s face it - not a lot of work gets done during the holidays. However\, there are ways to set ourselves up for being more productive! Join us and get some tips and tricks to survive and thrive during this holiday season:</span></span></div>\n</div>\n\n<div data-block="true" data-editor="8i1r9" data-offset-key="b4hpm-0-0" style="font-family: Helvetica\, Arial\, sans-serif\; color: rgb(29\, 33\, 41)\; font-size: 12px\; white-space: pre-wrap\; background-color: rgb(255\, 255\, 255)\;">\n<div class="_1mf _1mj" style="position: relative\; font-family: inherit\;">&nbsp\;</div>\n</div>\n\n<div data-block="true" data-editor="8i1r9" data-offset-key="50j6m-0-0" style="font-family: Helvetica\, Arial\, sans-serif\; color: rgb(29\, 33\, 41)\; font-size: 12px\; white-space: pre-wrap\; background-color: rgb(255\, 255\, 255)\;">\n<div class="_1mf _1mj" style="position: relative\; font-family: inherit\;"><span style="font-size:14px\;"><span data-offset-key="50j6m-0-0" style="font-family: inherit\;">** Be productive and get work done\, while balancing holiday parties! </span></span></div>\n</div>\n\n<div data-block="true" data-editor="8i1r9" data-offset-key="al0nk-0-0" style="font-family: Helvetica\, Arial\, sans-serif\; color: rgb(29\, 33\, 41)\; font-size: 12px\; white-space: pre-wrap\; background-color: rgb(255\, 255\, 255)\;">\n<div class="_1mf _1mj" style="position: relative\; font-family: inherit\;"><span style="font-size:14px\;"><span data-offset-key="al0nk-0-0" style="font-family: inherit\;">** Successfully navigate your work and home relationships around the holidays!</span></span></div>\n</div>\n\n<div data-block="true" data-editor="8i1r9" data-offset-key="vomp-0-0" style="font-family: Helvetica\, Arial\, sans-serif\; color: rgb(29\, 33\, 41)\; font-size: 12px\; white-space: pre-wrap\; background-color: rgb(255\, 255\, 255)\;">\n<div class="_1mf _1mj" style="position: relative\; font-family: inherit\;"><span style="font-size:14px\;"><span data-offset-key="vomp-0-0" style="font-family: inherit\;">** Create your vision and goals for the next year!</span></span></div>\n</div>\n\n<div data-block="true" data-editor="8i1r9" data-offset-key="clqic-0-0" style="font-family: Helvetica\, Arial\, sans-serif\; color: rgb(29\, 33\, 41)\; font-size: 12px\; white-space: pre-wrap\; background-color: rgb(255\, 255\, 255)\;">\n<div class="_1mf _1mj" style="position: relative\; font-family: inherit\;">&nbsp\;</div>\n</div>\n\n<div data-block="true" data-editor="8i1r9" data-offset-key="2a1tq-0-0" style="font-family: Helvetica\, Arial\, sans-serif\; color: rgb(29\, 33\, 41)\; font-size: 12px\; white-space: pre-wrap\; background-color: rgb(255\, 255\, 255)\;">\n<div class="_1mf _1mj" style="position: relative\; font-family: inherit\;"><strong><span style="font-size:14px\;"><span data-offset-key="2a1tq-0-0" style="font-family: inherit\;">About our Speaker:</span></span></strong></div>\n</div>\n\n<div data-block="true" data-editor="8i1r9" data-offset-key="facbb-0-0" style="font-family: Helvetica\, Arial\, sans-serif\; color: rgb(29\, 33\, 41)\; font-size: 12px\; white-space: pre-wrap\; background-color: rgb(255\, 255\, 255)\;">\n<div class="_1mf _1mj" style="position: relative\; font-family: inherit\;"><span style="font-size:14px\;"><span data-offset-key="919qb-0-0" style="font-family: inherit\;">Rumaisa Khawaja is a Life Coach and the Director of Outreach and Media Relations for Mandala Integrative Medicine which has given her experience in fostering both personal and professional relationships.</span></span></div>\n</div>\n\n<div data-block="true" data-editor="8i1r9" data-offset-key="8e5u-0-0" style="font-family: Helvetica\, Arial\, sans-serif\; color: rgb(29\, 33\, 41)\; font-size: 12px\; white-space: pre-wrap\; background-color: rgb(255\, 255\, 255)\;">\n<div class="_1mf _1mj" style="position: relative\; font-family: inherit\;">&nbsp\;</div>\n</div>\n\n<div data-block="true" data-editor="8i1r9" data-offset-key="9cas0-0-0" style="font-family: Helvetica\, Arial\, sans-serif\; color: rgb(29\, 33\, 41)\; font-size: 12px\; white-space: pre-wrap\; background-color: rgb(255\, 255\, 255)\;">\n<div class="_1mf _1mj" style="position: relative\; font-family: inherit\;"><span style="font-size:14px\;"><span data-offset-key="9cas0-0-0" style="font-family: inherit\;">After completing her studies at the Wright Graduate University for the Realization of Human Potential\, she became a Certified Coach in Emotional Intelligence.</span></span></div>\n</div>\n\n<div data-block="true" data-editor="8i1r9" data-offset-key="4ffga-0-0" style="font-family: Helvetica\, Arial\, sans-serif\; color: rgb(29\, 33\, 41)\; font-size: 12px\; white-space: pre-wrap\; background-color: rgb(255\, 255\, 255)\;">\n<div class="_1mf _1mj" style="position: relative\; font-family: inherit\;">&nbsp\;</div>\n</div>\n\n<div data-block="true" data-editor="8i1r9" data-offset-key="e7vti-0-0" style="font-family: Helvetica\, Arial\, sans-serif\; color: rgb(29\, 33\, 41)\; font-size: 12px\; white-space: pre-wrap\; background-color: rgb(255\, 255\, 255)\;">\n<div class="_1mf _1mj" style="position: relative\; font-family: inherit\;"><span style="font-size:14px\;"><span data-offset-key="e7vti-0-0" style="font-family: inherit\;">Rumaisa has built her career helping people achieve dynamic\, positive changes in their lives by providing them meaningful tools they can successfully and consistently integrate into their day-to-day activities.</span></span></div>\n</div>\n\n<div data-block="true" data-editor="8i1r9" data-offset-key="a3v51-0-0" style="font-family: Helvetica\, Arial\, sans-serif\; color: rgb(29\, 33\, 41)\; font-size: 12px\; white-space: pre-wrap\; background-color: rgb(255\, 255\, 255)\;">\n<div class="_1mf _1mj" style="position: relative\; font-family: inherit\;">&nbsp\;</div>\n</div>\n\n<div data-block="true" data-editor="8i1r9" data-offset-key="7fl27-0-0" style="font-family: Helvetica\, Arial\, sans-serif\; color: rgb(29\, 33\, 41)\; font-size: 12px\; white-space: pre-wrap\; background-color: rgb(255\, 255\, 255)\;">\n<div class="_1mf _1mj" style="position: relative\; font-family: inherit\;"><span style="font-size:14px\;"><span data-offset-key="7fl27-0-0" style="font-family: inherit\;">https://coachrumaisa.com/</span></span></div>\n</div>\n\n<div data-block="true" data-editor="8i1r9" data-offset-key="4f53j-0-0" style="font-family: Helvetica\, Arial\, sans-serif\; color: rgb(29\, 33\, 41)\; font-size: 12px\; white-space: pre-wrap\; background-color: rgb(255\, 255\, 255)\;">\n<div class="_1mf _1mj" style="position: relative\; font-family: inherit\;">&nbsp\;</div>\n</div>\n\n<div data-block="true" data-editor="8i1r9" data-offset-key="m3pu-0-0" style="font-family: Helvetica\, Arial\, sans-serif\; color: rgb(29\, 33\, 41)\; font-size: 12px\; white-space: pre-wrap\; background-color: rgb(255\, 255\, 255)\;">\n<div class="_1mf _1mj" style="position: relative\; font-family: inherit\;"><strong><span style="font-size:14px\;"><span data-offset-key="m3pu-0-0" style="font-family: inherit\;">Thank you to our Ignite Quad Cities Annual Sponsors:</span></span></strong></div>\n</div>\n\n<div data-block="true" data-editor="8i1r9" data-offset-key="1tler-0-0" style="font-family: Helvetica\, Arial\, sans-serif\; color: rgb(29\, 33\, 41)\; font-size: 12px\; white-space: pre-wrap\; background-color: rgb(255\, 255\, 255)\;">\n<div class="_1mf _1mj" style="position: relative\; font-family: inherit\;"><span style="font-size:14px\;"><span data-offset-key="1t64o-0-0" style="font-family: inherit\;">Bozeman\, Neighbour\, Patton &amp\; Noe\, LLP</span></span></div>\n</div>\n\n<div data-block="true" data-editor="8i1r9" data-offset-key="e586m-0-0" style="font-family: Helvetica\, Arial\, sans-serif\; color: rgb(29\, 33\, 41)\; font-size: 12px\; white-space: pre-wrap\; background-color: rgb(255\, 255\, 255)\;">\n<div class="_1mf _1mj" style="position: relative\; font-family: inherit\;"><span style="font-size:14px\;"><span data-offset-key="e586m-0-0" style="font-family: inherit\;">Bill Karben - Carpentier\, Mitchell\, Goddard &amp\; Co.\, LLC</span></span></div>\n</div>\n\n<div data-block="true" data-editor="8i1r9" data-offset-key="e6qcc-0-0" style="font-family: Helvetica\, Arial\, sans-serif\; color: rgb(29\, 33\, 41)\; font-size: 12px\; white-space: pre-wrap\; background-color: rgb(255\, 255\, 255)\;">\n<div class="_1mf _1mj" style="position: relative\; font-family: inherit\;"><span style="font-size:14px\;"><span data-offset-key="e6qcc-0-0" style="font-family: inherit\;">Evan Muench &amp\; Lisa Elgin - IH Mississippi Valley Credit Union</span></span></div>\n</div>\n\n<div data-block="true" data-editor="8i1r9" data-offset-key="ffl3m-0-0" style="font-family: Helvetica\, Arial\, sans-serif\; color: rgb(29\, 33\, 41)\; font-size: 12px\; white-space: pre-wrap\; background-color: rgb(255\, 255\, 255)\;">\n<div class="_1mf _1mj" style="position: relative\; font-family: inherit\;"><span style="font-size:14px\;"><span data-offset-key="ffl3m-0-0" style="font-family: inherit\;">Kevin M. Linn - Principal Financial</span></span></div>\n</div>\n\n<div data-block="true" data-editor="8i1r9" data-offset-key="6enul-0-0" style="font-family: Helvetica\, Arial\, sans-serif\; color: rgb(29\, 33\, 41)\; font-size: 12px\; white-space: pre-wrap\; background-color: rgb(255\, 255\, 255)\;">\n<div class="_1mf _1mj" style="position: relative\; font-family: inherit\;">&nbsp\;</div>\n</div>\n\n<div data-block="true" data-editor="8i1r9" data-offset-key="3me7m-0-0" style="font-family: Helvetica\, Arial\, sans-serif\; color: rgb(29\, 33\, 41)\; font-size: 12px\; white-space: pre-wrap\; background-color: rgb(255\, 255\, 255)\;">\n<div class="_1mf _1mj" style="position: relative\; font-family: inherit\;"><strong><span style="font-size:14px\;"><span data-offset-key="3me7m-0-0" style="font-family: inherit\;">And our new Coffee Sponsor:</span></span></strong></div>\n</div>\n\n<div data-block="true" data-editor="8i1r9" data-offset-key="212ma-0-0" style="font-family: Helvetica\, Arial\, sans-serif\; color: rgb(29\, 33\, 41)\; font-size: 12px\; white-space: pre-wrap\; background-color: rgb(255\, 255\, 255)\;">\n<div class="_1mf _1mj" style="position: relative\; font-family: inherit\;"><span style="font-size:14px\;"><span data-offset-key="ajiv2-0-0" style="font-family: inherit\;">Caffeine Queen Espresso Catering</span></span></div>\n</div>\n\n<div data-block="true" data-editor="8i1r9" data-offset-key="5jfme-0-0" style="font-family: Helvetica\, Arial\, sans-serif\; color: rgb(29\, 33\, 41)\; font-size: 12px\; white-space: pre-wrap\; background-color: rgb(255\, 255\, 255)\;">\n<div class="_1mf _1mj" style="position: relative\; font-family: inherit\;"><span style="font-size:14px\;"><span data-offset-key="5jfme-0-0" style="font-family: inherit\;">https://www.facebook.com/pg/CaffeineQueenEspresso/</span></span></div>\n</div>\n\n<div data-block="true" data-editor="8i1r9" data-offset-key="aq2un-0-0" style="font-family: Helvetica\, Arial\, sans-serif\; color: rgb(29\, 33\, 41)\; font-size: 12px\; white-space: pre-wrap\; background-color: rgb(255\, 255\, 255)\;">&nbsp\;</div>\n
LOCATION:coworkqc 102 E. 2nd St. Davenport\, IA 52801
UID:e.2843.13577
SEQUENCE:3
DTSTAMP:20260423T012302Z
URL:https://member.quadcitieschamber.com/events/details/ignite-quad-cities-open-coffee-13577
END:VEVENT

END:VCALENDAR
